BEGIN:VCALENDAR
VERSION:2.0
PRODID:-//Cermin - ECPv6.15.17.1//NONSGML v1.0//EN
CALSCALE:GREGORIAN
METHOD:PUBLISH
X-WR-CALNAME:Cermin
X-ORIGINAL-URL:https://cermin.org
X-WR-CALDESC:Eventos para Cermin
REFRESH-INTERVAL;VALUE=DURATION:PT1H
X-Robots-Tag:noindex
X-PUBLISHED-TTL:PT1H
BEGIN:VTIMEZONE
TZID:Europe/Madrid
BEGIN:DAYLIGHT
TZOFFSETFROM:+0100
TZOFFSETTO:+0200
TZNAME:CEST
DTSTART:20220327T010000
END:DAYLIGHT
BEGIN:STANDARD
TZOFFSETFROM:+0200
TZOFFSETTO:+0100
TZNAME:CET
DTSTART:20221030T010000
END:STANDARD
BEGIN:DAYLIGHT
TZOFFSETFROM:+0100
TZOFFSETTO:+0200
TZNAME:CEST
DTSTART:20230326T010000
END:DAYLIGHT
BEGIN:STANDARD
TZOFFSETFROM:+0200
TZOFFSETTO:+0100
TZNAME:CET
DTSTART:20231029T010000
END:STANDARD
BEGIN:DAYLIGHT
TZOFFSETFROM:+0100
TZOFFSETTO:+0200
TZNAME:CEST
DTSTART:20240331T010000
END:DAYLIGHT
BEGIN:STANDARD
TZOFFSETFROM:+0200
TZOFFSETTO:+0100
TZNAME:CET
DTSTART:20241027T010000
END:STANDARD
END:VTIMEZONE
BEGIN:VEVENT
DTSTART;TZID=Europe/Madrid:20230307T200000
DTEND;TZID=Europe/Madrid:20230307T213000
DTSTAMP:20260421T224506
CREATED:20230301T111208Z
LAST-MODIFIED:20230306T094847Z
UID:14326-1678219200-1678224600@cermin.org
SUMMARY:CONMEMORACIÓN del Día Internacional de la Mujer 8 de marzo de 2023: 'Mujer rural\, mujer real' - ONCE NAVARRA
DESCRIPTION:Con motivo del Día Internacional de la Mujer\, ONCE Navarra celebra la mesa coloquio “Mujer rural\, mujer real”\, el próximo martes\, 7 de marzo. Será en el Salón de Actos de la Delegación Territorial de la ONCE en Navarra (calle Aralar\, 3\, Pamplona). \nLa jornada contará tanto con la presidenta como la vicepresidenta de la Asociación de Familias y Mujeres del Medio Rural (AFAMMER-Navarra): Dña. Rosalía Echeverria\, presidenta\, y Dña. Julia Expósito\, vicepresidenta. También estarán Dña. Mariluz Sanz\, presidenta de CERMIN\, y Dña. Ana Castro\, psicóloga y agente de igualdad de ONCE Navarra. \nInformación de la jornada\n\nFecha: martes\, 7 de marzo de 2023.\nHorario: de 20:00 a 21:30 horas.\nAccesibilidad auditiva: el acto contará con subtitulado e intérprete de lengua de signos\, gracias a la colaboración de Asociación EUNATE.\nIntervienen:\n\nValentín Fortún\, delegado de ONCE Comunidad Foral de Navarra.\nMª Pilar Herrero\, presidenta del Consejo Territorial de ONCE Navarra y Secretaria General de UP Navarra.\nRosalía Echeverría\, presidenta de AFAMMER-Navarra.\nMariluz Sanz\, presidenta de CERMIN.\nEdurne Buján\, secretaria general de UTO-UGT Navarra.\nAna Castro\, psicóloga y agente de igualdad de ONCE Navarra.\nRamón Estévez Pérez\, referente de Igualdad de UP Navarra.
URL:https://cermin.org/agenda/conmemoracion-del-dia-internacional-de-la-mujer-8-de-marzo-de-2023-mujer-rural-mujer-real-once-navarra/
LOCATION:SALON DE ACTOS ONCE NAVARRA\, C/ ARALAR Nº 3\, Pamplona/Iruña\, NAVARRA\, 31001
ATTACH;FMTTYPE=image/jpeg:https://cermin.org/wp-content/uploads/2021/05/spain-82036_960_720.jpg
END:VEVENT
BEGIN:VEVENT
DTSTART;TZID=Europe/Madrid:20230308T113000
DTEND;TZID=Europe/Madrid:20230308T120000
DTSTAMP:20260421T224506
CREATED:20230303T123043Z
LAST-MODIFIED:20230306T084439Z
UID:14331-1678275000-1678276800@cermin.org
SUMMARY:CONCENTRACIÓN: «Con motivo del 8 de marzo». CERMI NAVARRA
DESCRIPTION:Concentración que organiza CERMIN donde se llevará a cabo la lectura del manifiesto con motivo del 8 de marzo.\n\nCERMI Navarra-Nafarroa (CERMIN) organiza una concentración con motivo del 8 de marzo (8M)\, Día Internacional de las Mujeres. Será en la Plaza del Castillo de Pamplona\, a las 11:30 horas. \n\nPrograma del acto: el acto consistirá en una lectura de manifiesto a cargo de varias mujeres con discapacidad pertenecientes al movimiento asociativo CERMIN.\nLugar: Plaza del Castillo (Pamplona).\nDía: miércoles 8 de marzo.\nHorario: 11:30 horas.\nACCESIBILIDAD: El acto será accesible con Intérprete de Lengua de Signos (ILSE)\, manifiesto en lectura fácil\, y espacio accesible para personas con movilidad reducida.\n\nOs animamos a difundir esta actividad entre vuestro movimiento y a acudir a la Concentración porque… \nEL FEMINISMO SERÁ INCLUSIVO O NO SERÁ \nFEMINISMOA BAI\, INKLUSIOA ERE BAI \nPor nosotras\, por nuestros derechos\, por todas las mujeres. \nGugatik\, gure eskubideengatik\, emakume guztiengatik. \nCartel de la concentración en formato PDF. \nImagen del cartel de la concentración de CERMIN con motivo del 8M
URL:https://cermin.org/agenda/concentracion-con-motivo-del-8-de-marzo-cermi-navarra-2/
LOCATION:Plaza del Castillo\, Pamplona\, Plaza del Castillo\, Pamplona\, Navarra\, 31000\, España
ATTACH;FMTTYPE=image/png:https://cermin.org/wp-content/uploads/2023/03/Cartel-concentracion-CERMIN-8M-2023.png
END:VEVENT
END:VCALENDAR