BEGIN:VCALENDAR
VERSION:2.0
PRODID:-//Cermin - ECPv6.15.17.1//NONSGML v1.0//EN
CALSCALE:GREGORIAN
METHOD:PUBLISH
X-WR-CALNAME:Cermin
X-ORIGINAL-URL:https://cermin.org
X-WR-CALDESC:Eventos para Cermin
REFRESH-INTERVAL;VALUE=DURATION:PT1H
X-Robots-Tag:noindex
X-PUBLISHED-TTL:PT1H
BEGIN:VTIMEZONE
TZID:Europe/Madrid
BEGIN:DAYLIGHT
TZOFFSETFROM:+0100
TZOFFSETTO:+0200
TZNAME:CEST
DTSTART:20210328T010000
END:DAYLIGHT
BEGIN:STANDARD
TZOFFSETFROM:+0200
TZOFFSETTO:+0100
TZNAME:CET
DTSTART:20211031T010000
END:STANDARD
BEGIN:DAYLIGHT
TZOFFSETFROM:+0100
TZOFFSETTO:+0200
TZNAME:CEST
DTSTART:20220327T010000
END:DAYLIGHT
BEGIN:STANDARD
TZOFFSETFROM:+0200
TZOFFSETTO:+0100
TZNAME:CET
DTSTART:20221030T010000
END:STANDARD
BEGIN:DAYLIGHT
TZOFFSETFROM:+0100
TZOFFSETTO:+0200
TZNAME:CEST
DTSTART:20230326T010000
END:DAYLIGHT
BEGIN:STANDARD
TZOFFSETFROM:+0200
TZOFFSETTO:+0100
TZNAME:CET
DTSTART:20231029T010000
END:STANDARD
END:VTIMEZONE
BEGIN:VEVENT
DTSTART;TZID=Europe/Madrid:20221116T100000
DTEND;TZID=Europe/Madrid:20221116T133000
DTSTAMP:20260420T141956
CREATED:20221109T134535Z
LAST-MODIFIED:20221110T104345Z
UID:13753-1668592800-1668605400@cermin.org
SUMMARY:PRESENTACIÓN: "OACNA\, Oficina de Accesibilidad Cognitiva de Navarra" ANFAS NAVARRA
DESCRIPTION:Desde ANFAS invitan a la Presentación de la OACNA (Oficina de Accesibilidad Cognitiva de Navarra)\, un proyecto de gran interés.\n\n  \nTendrá lugar el miércoles\, 16 de noviembre en Civican. \nProgramación: \n10:00 horas: Inauguración \nIntervienen: \n\nD. José Ángel Andrés\, Presidente de Fundación Caja Navarra\nD. Roberto Pérez Jordán\, Presidente de ANFAS\n\n10:30 horas: La accesibilidad cognitiva: Un derecho llave \n\n¿Qué es la accesibilidad cognitiva?\nLa accesibilidad y los derechos de las personas\n¿En qué leyes se recoge el derecho a la accesibilidad cognitiva?\n\nIntervienen: \n\nD. Victorio Latasa\, de la Plataforma de Representantes del Comité de Personas con discapacidad intelectual y del desarrollo de Plena Inclusión\nServicio de Accesibilidad Cognitiva de ANFAS\n\n11:00  Servicios públicos 100% accesibles: una realidad cercana \nInterviene: \nD. Joseba Asiain\, Director General de Presidencia  y Gobierno Abierto del Gobierno de Navarra \n11:30  Presentación de la OACNA\, Oficina de Accesibilidad Cognitiva de Navarra (Servicio de Accesibilidad Cognitiva de ANFAS) \n\n¿Qué es la OACNA?\n¿A quién va dirigida?\n¿Qué hacemos y cómo trabajamos?\nTrabajo en red: Plataforma Navarra Más Accesible\n\n12:00 Experiencias de Accesibilidad Cognitiva en Navarra: Buenas Prácticas que cambian el mundo. \nIntervienen: \n\nDª Charo Apesteguía\, Gerente de la Asociación Turística Tierras de Iranzu\nDª Elena Antoñanzas\, Jefa de la Sección de Ciudadanía Sanitaria y Aseguramiento del Servicio Navarro de Salud\nDª Amaya Mena\, del Servicio Navarro de Empleo\nD. José Miguel Gastón\, Director del Instituto Navarro de la Memoria\n\n13:00 Clausura  \nD. Javier Remírez\, Vicepresidente Primero y Consejero de Presidencia\, Igualdad\, Función Pública e Interior del Gobierno de Navarra. \nSe ruega confirmación de asistencia\, para más información o para necesidades de accesibilidad en la jornada  contacte con: \nEsther Lerga Goizueta \nResponsable de Comunicación \nTfno. 948 174 910 ó 649 471 474 \nImagen del cartel de la presentación.
URL:https://cermin.org/agenda/presentacion-oacna-oficina-de-accesibilidad-cognitiva-de-navarra-anfas-navarra/
LOCATION:AUDITORIO CIVICAN\, AVDA\, PIO XII Nº 2\, Pamplona/Iruña\, NAVARRA
ATTACH;FMTTYPE=image/jpeg:https://cermin.org/wp-content/uploads/2022/11/anfas.jpg
END:VEVENT
END:VCALENDAR