BEGIN:VCALENDAR
VERSION:2.0
PRODID:-//Cermin - ECPv6.15.17.1//NONSGML v1.0//EN
CALSCALE:GREGORIAN
METHOD:PUBLISH
X-WR-CALNAME:Cermin
X-ORIGINAL-URL:https://cermin.org
X-WR-CALDESC:Eventos para Cermin
REFRESH-INTERVAL;VALUE=DURATION:PT1H
X-Robots-Tag:noindex
X-PUBLISHED-TTL:PT1H
BEGIN:VTIMEZONE
TZID:Europe/Madrid
BEGIN:DAYLIGHT
TZOFFSETFROM:+0100
TZOFFSETTO:+0200
TZNAME:CEST
DTSTART:20220327T010000
END:DAYLIGHT
BEGIN:STANDARD
TZOFFSETFROM:+0200
TZOFFSETTO:+0100
TZNAME:CET
DTSTART:20221030T010000
END:STANDARD
BEGIN:DAYLIGHT
TZOFFSETFROM:+0100
TZOFFSETTO:+0200
TZNAME:CEST
DTSTART:20230326T010000
END:DAYLIGHT
BEGIN:STANDARD
TZOFFSETFROM:+0200
TZOFFSETTO:+0100
TZNAME:CET
DTSTART:20231029T010000
END:STANDARD
BEGIN:DAYLIGHT
TZOFFSETFROM:+0100
TZOFFSETTO:+0200
TZNAME:CEST
DTSTART:20240331T010000
END:DAYLIGHT
BEGIN:STANDARD
TZOFFSETFROM:+0200
TZOFFSETTO:+0100
TZNAME:CET
DTSTART:20241027T010000
END:STANDARD
END:VTIMEZONE
BEGIN:VEVENT
DTSTART;TZID=Europe/Madrid:20230225T103000
DTEND;TZID=Europe/Madrid:20230225T133000
DTSTAMP:20260420T011556
CREATED:20230217T125740Z
LAST-MODIFIED:20230221T105510Z
UID:14254-1677321000-1677331800@cermin.org
SUMMARY:CHARLA: 'Atención sanitaria a adultos con Síndrome de Down: el Modelo Princesa' - ASDN
DESCRIPTION:El próximo sábado 25 de febrero a las 10:30h\, Fernando Moldenhauer Díaz\, jefe de la Unidad de atención a adultos con Síndrome de Down\, del Hospital Universitario La Princesa de Madrid\, impartirá la charla “Atención sanitaria a adultos con Síndrome de Down: el Modelo Princesa” en la sala de conferencias del Civican.\nOrganiza la Asociación Síndrome de Down de Navarra.\n\n \nPosteriormente se llevará a cabo un conversatorio moderado por Mª José Leoz\, gerente de la Asociación Síndrome de Down de Navarra (ASDN)\, en el que participarán Fernando Moldenhauer\, Javier Apezteguia (dirección de Asistencia al Paciente del Departamento de Salud de Gobierno de Navarra)\, y Edurne Pascal\, psicóloga y directora de Programas de ASDN. \nEl acceso es gratuito pero es necesario inscribirse enviando un email a info@sindromedownnavarra.org o telefónicamente en el 948263280 antes del jueves 23 de febrero. \nPrograma del acto\nDe 10:30 a 12:00 horas: Atención sanitaria a adultos con Síndrome de Down. El modelo Princesa.\nExpone: Fernando Moldenhauer Díaz. Doctorado en Medicina y Filosofía. Responsable de la Consulta de Diagnóstico Rápido de la Unidad de Atención a Adultos con Síndrome de Down (MIH-UPDOWN). Jefe de sección del Servicio de Medicina Interna del Hospital Universitario de la Princesa de Madrid. \nDe 12:00 a 12:30 horas: pausa-café.\nPausa para el café. \nDe 12:30 a 13:30 horas: conversatorio.\nParticipan: \n\nFernando Moldenhauer.\nJavier Azpeteguia Urroz\, director de Asistencia al Paciente del Departamento de Salud del Gobierno de Navarra.\nEdurne Pascal Landa\, psicóloga y directora de Programas de la Asociación Síndrome de Down de Navarra.\n\nModera: Mª Jose Leoz Tellería\, gerente de la Asociación Síndrome de Down de Navarra. \nCartel de la charla
URL:https://cermin.org/agenda/charla-atencion-sanitaria-a-adultos-con-sindrome-de-down-el-modelo-princesa-asdn/
LOCATION:CIVICAN\, SALA DE CONFERENCIAS
ATTACH;FMTTYPE=image/png:https://cermin.org/wp-content/uploads/2023/02/charlamoldenhauer_feb23.png
END:VEVENT
END:VCALENDAR