BEGIN:VCALENDAR
VERSION:2.0
PRODID:-//Cermin - ECPv6.15.17.1//NONSGML v1.0//EN
CALSCALE:GREGORIAN
METHOD:PUBLISH
X-ORIGINAL-URL:https://cermin.org
X-WR-CALDESC:Eventos para Cermin
REFRESH-INTERVAL;VALUE=DURATION:PT1H
X-Robots-Tag:noindex
X-PUBLISHED-TTL:PT1H
BEGIN:VTIMEZONE
TZID:Europe/Madrid
BEGIN:DAYLIGHT
TZOFFSETFROM:+0100
TZOFFSETTO:+0200
TZNAME:CEST
DTSTART:20210328T010000
END:DAYLIGHT
BEGIN:STANDARD
TZOFFSETFROM:+0200
TZOFFSETTO:+0100
TZNAME:CET
DTSTART:20211031T010000
END:STANDARD
BEGIN:DAYLIGHT
TZOFFSETFROM:+0100
TZOFFSETTO:+0200
TZNAME:CEST
DTSTART:20220327T010000
END:DAYLIGHT
BEGIN:STANDARD
TZOFFSETFROM:+0200
TZOFFSETTO:+0100
TZNAME:CET
DTSTART:20221030T010000
END:STANDARD
BEGIN:DAYLIGHT
TZOFFSETFROM:+0100
TZOFFSETTO:+0200
TZNAME:CEST
DTSTART:20230326T010000
END:DAYLIGHT
BEGIN:STANDARD
TZOFFSETFROM:+0200
TZOFFSETTO:+0100
TZNAME:CET
DTSTART:20231029T010000
END:STANDARD
END:VTIMEZONE
BEGIN:VEVENT
DTSTART;TZID=Europe/Madrid:20221130T190000
DTEND;TZID=Europe/Madrid:20221130T203500
DTSTAMP:20260420T005909
CREATED:20221005T084158Z
LAST-MODIFIED:20221005T084930Z
UID:13481-1669834800-1669840500@cermin.org
SUMMARY:PELÍCULA CON AUDIODESCRIPCIÓN: 'Un espíritu burlón' - RETINA NAVARRA
DESCRIPTION:Retina Navarra organiza una nueva edición de su ciclo de Ver\, Oír y Aplaudir\, en el que se proyectarán en distintas fechas películas con audiodescripción en Civivox Iturrama. La entrada es gratuita con invitación (se retira en el propio Civivox). \nLa segunda película será ‘Un espíritu burlón’ (2020)\, el día 30 de noviembre a las 19 horas. \nSinopsis\nCharles es un famoso escritor de novela negra que sufre un bloqueo creativo. Para ayudar a que lo supere\, Ruth\, su mujer\, organiza un encuentro con una médium\, que acaba convocando a la fallecida primera esposa de Charles\, la hermosa Elvira. \nFicha técnica de la película. \nCartel de la película ‘Un espíritu burlón’.\nProgramación del ciclo\n\n19 de octubre: De Gaulle (2020).\n30 de noviembre: Un espíritu burlón (2020).\n21 de diciembre: Handia (2017).
URL:https://cermin.org/agenda/pelicula-con-audiodescripcion-un-espiritu-burlon-retina-navarra/
LOCATION:CIVIVOX ITURRAMA
ATTACH;FMTTYPE=image/jpeg:https://cermin.org/wp-content/uploads/2022/10/un_espiritu_burlon-cartel-10094.jpg
END:VEVENT
END:VCALENDAR