BEGIN:VCALENDAR
VERSION:2.0
PRODID:-//Cermin - ECPv6.15.17.1//NONSGML v1.0//EN
CALSCALE:GREGORIAN
METHOD:PUBLISH
X-WR-CALNAME:Cermin
X-ORIGINAL-URL:https://cermin.org
X-WR-CALDESC:Eventos para Cermin
REFRESH-INTERVAL;VALUE=DURATION:PT1H
X-Robots-Tag:noindex
X-PUBLISHED-TTL:PT1H
BEGIN:VTIMEZONE
TZID:Europe/Madrid
BEGIN:DAYLIGHT
TZOFFSETFROM:+0100
TZOFFSETTO:+0200
TZNAME:CEST
DTSTART:20210328T010000
END:DAYLIGHT
BEGIN:STANDARD
TZOFFSETFROM:+0200
TZOFFSETTO:+0100
TZNAME:CET
DTSTART:20211031T010000
END:STANDARD
BEGIN:DAYLIGHT
TZOFFSETFROM:+0100
TZOFFSETTO:+0200
TZNAME:CEST
DTSTART:20220327T010000
END:DAYLIGHT
BEGIN:STANDARD
TZOFFSETFROM:+0200
TZOFFSETTO:+0100
TZNAME:CET
DTSTART:20221030T010000
END:STANDARD
BEGIN:DAYLIGHT
TZOFFSETFROM:+0100
TZOFFSETTO:+0200
TZNAME:CEST
DTSTART:20230326T010000
END:DAYLIGHT
BEGIN:STANDARD
TZOFFSETFROM:+0200
TZOFFSETTO:+0100
TZNAME:CET
DTSTART:20231029T010000
END:STANDARD
END:VTIMEZONE
BEGIN:VEVENT
DTSTART;TZID=Europe/Madrid:20221005T170000
DTEND;TZID=Europe/Madrid:20221005T190000
DTSTAMP:20260419T220449
CREATED:20220926T085153Z
LAST-MODIFIED:20220929T072425Z
UID:13403-1664989200-1664996400@cermin.org
SUMMARY:VIDEOFORUM 'De viva voz' - COCEMFE
DESCRIPTION:COCEMFE Navarra organiza la actividad ‘De viva voz’\, un videoforum con María Castejón sobre Mujer y cine. \nSerán dos talleres que tendrán lugar el miércoles 28 de septiembre y el 5 de octubre\, en horario de 17.00 a 19.00 en El Centro Comunitario de Txantrea\, en la Calle Cuenca de Pamplona 24 (Unidad de Barrio de Txantrea). \nLas personas interesadas pueden apuntarse en Cocemfe (direcciones de sus oficinas) o llamando al 948383898.
URL:https://cermin.org/agenda/videoforum-de-viva-voz-cocemfe/
LOCATION:CENTRO COMUNITARIO DE TXANTREA\, C/ Cuenca de Pamplona\, 24\, Planta Baja\, Pamplona\, Navarra\, 31015\, España
ATTACH;FMTTYPE=image/png:https://cermin.org/wp-content/uploads/2022/09/20220928-20221005-Videoforum-De-viva-voz-COCEMFE.png
END:VEVENT
END:VCALENDAR