BEGIN:VCALENDAR
VERSION:2.0
PRODID:-//Cermin - ECPv6.15.17.1//NONSGML v1.0//EN
CALSCALE:GREGORIAN
METHOD:PUBLISH
X-ORIGINAL-URL:https://cermin.org
X-WR-CALDESC:Eventos para Cermin
REFRESH-INTERVAL;VALUE=DURATION:PT1H
X-Robots-Tag:noindex
X-PUBLISHED-TTL:PT1H
BEGIN:VTIMEZONE
TZID:Europe/Madrid
BEGIN:DAYLIGHT
TZOFFSETFROM:+0100
TZOFFSETTO:+0200
TZNAME:CEST
DTSTART:20220327T010000
END:DAYLIGHT
BEGIN:STANDARD
TZOFFSETFROM:+0200
TZOFFSETTO:+0100
TZNAME:CET
DTSTART:20221030T010000
END:STANDARD
BEGIN:DAYLIGHT
TZOFFSETFROM:+0100
TZOFFSETTO:+0200
TZNAME:CEST
DTSTART:20230326T010000
END:DAYLIGHT
BEGIN:STANDARD
TZOFFSETFROM:+0200
TZOFFSETTO:+0100
TZNAME:CET
DTSTART:20231029T010000
END:STANDARD
BEGIN:DAYLIGHT
TZOFFSETFROM:+0100
TZOFFSETTO:+0200
TZNAME:CEST
DTSTART:20240331T010000
END:DAYLIGHT
BEGIN:STANDARD
TZOFFSETFROM:+0200
TZOFFSETTO:+0100
TZNAME:CET
DTSTART:20241027T010000
END:STANDARD
END:VTIMEZONE
BEGIN:VEVENT
DTSTART;VALUE=DATE:20230921
DTEND;VALUE=DATE:20231001
DTSTAMP:20260420T052049
CREATED:20230123T100204Z
LAST-MODIFIED:20230123T100204Z
UID:14129-1695254400-1696118399@cermin.org
SUMMARY:VIII Edición del Concurso de Fotografía y IV Edición del Concurso de Vídeo Generosidad 'Yo decido' - CERMI MUJERES
DESCRIPTION:La Fundación CERMI Mujeres (FCM) ha convocado los premios de la nueva edición del concurso de fotografía y vídeo Generosidad. Se trata de la VIII Edición del Concurso de Fotografía y de la IV Edición del Concurso de Vídeo Generosidad ‘Yo decido’\, cuyo objetivo este año es generar conciencia en torno a las dificultades que siguen encontrando las mujeres y niñas con discapacidad a la hora de tomar sus propias decisiones en su día a día y ser así protagonistas de sus vidas. \nBajo el título ‘Yo Decido’\, podrán participar en el certamen todas las personas interesadas enviando sus fotografías o vídeos al correo fundacioncermimujeres@fundacioncermimujeres.es antes del 30 de septiembre de 2023.  Las obras fotográficas han de ser remitidas en formato digital con una resolución mínima de 300 píxeles por pulgada y las piezas de vídeo podrán tener una duración máxima de dos minutos y medio. Solo se admitirán un máximo de dos obras por persona autora. \nEl jurado valorará especialmente la originalidad\, estética\, sensibilidad social\, capacidad crítica y comunicativa y adecuación al tema propuesto. De igual manera\, se valorará el cumplimiento de los demás parámetros de accesibilidad universal en las obras. \n \nPremios\nHabrá tres premios para cada una de las categorías de fotografía y vídeo que estarán dotados con 3.000\, 2.000 y 1.000 euros cada uno. Además\, el jurado podrá realizar menciones especiales para otras obras que considere de especial interés. \nLa Fundación CERMI Mujeres entregará los premios en un acto público que tendrá lugar en torno al 25 de noviembre\, Día Internacional de la Eliminación de la Violencia contra la Mujer\, o el 10 de diciembre\, Día Internacional de los Derechos Humanos. \nUna vez fallados los premios\, la Fundación CERMI Mujeres inaugurará una exposición con los vídeos y las fotografías premiadas\, así como con aquellas instantáneas que hayan recibido una mención especial\, que podrá visitarse en la sede de la entidad\, situada en la Calle Recoletos\, 1 Bajo\, de Madrid. \nEsta iniciativa cuenta con el apoyo del Ministerio de Igualdad\, del Ministerio de Derechos Sociales y Agenda 2030 y de la Fundación ONCE.
URL:https://cermin.org/agenda/viii-edicion-del-concurso-de-fotografia-y-iv-edicion-del-concurso-de-video-generosidad-yo-decido-cermi-mujeres/
LOCATION:Online
ATTACH;FMTTYPE=image/jpeg:https://cermin.org/wp-content/uploads/2022/11/Concurso-Generosidad-1er-premio-Los-obstaculos-de-la-justicia-scaled.jpg
END:VEVENT
END:VCALENDAR