BEGIN:VCALENDAR
VERSION:2.0
PRODID:-//Cermin - ECPv6.15.17.1//NONSGML v1.0//EN
CALSCALE:GREGORIAN
METHOD:PUBLISH
X-ORIGINAL-URL:https://cermin.org
X-WR-CALDESC:Eventos para Cermin
REFRESH-INTERVAL;VALUE=DURATION:PT1H
X-Robots-Tag:noindex
X-PUBLISHED-TTL:PT1H
BEGIN:VTIMEZONE
TZID:Europe/Madrid
BEGIN:DAYLIGHT
TZOFFSETFROM:+0100
TZOFFSETTO:+0200
TZNAME:CEST
DTSTART:20220327T010000
END:DAYLIGHT
BEGIN:STANDARD
TZOFFSETFROM:+0200
TZOFFSETTO:+0100
TZNAME:CET
DTSTART:20221030T010000
END:STANDARD
BEGIN:DAYLIGHT
TZOFFSETFROM:+0100
TZOFFSETTO:+0200
TZNAME:CEST
DTSTART:20230326T010000
END:DAYLIGHT
BEGIN:STANDARD
TZOFFSETFROM:+0200
TZOFFSETTO:+0100
TZNAME:CET
DTSTART:20231029T010000
END:STANDARD
BEGIN:DAYLIGHT
TZOFFSETFROM:+0100
TZOFFSETTO:+0200
TZNAME:CEST
DTSTART:20240331T010000
END:DAYLIGHT
BEGIN:STANDARD
TZOFFSETFROM:+0200
TZOFFSETTO:+0100
TZNAME:CET
DTSTART:20241027T010000
END:STANDARD
END:VTIMEZONE
BEGIN:VEVENT
DTSTART;VALUE=DATE:20231106
DTEND;VALUE=DATE:20231107
DTSTAMP:20260421T144818
CREATED:20230515T085329Z
LAST-MODIFIED:20230515T085329Z
UID:14727-1699228800-1699315199@cermin.org
SUMMARY:XXI Concurso de Fotografía 'Las personas con discapacidad en la vida cotidiana' - INICO y Aliados por la Integración
DESCRIPTION:El plazo para presentar los trabajos finaliza el 6 de noviembre y se mantienen los premios de 2.500\, 1.500 y 1.000 euros para los ganadores.\n\n \nEl Instituto de Integración en la Comunidad de la Universidad de Salamanca (INICO) y la Fundación Aliados por la Integración abren el plazo de presentación de fotografías para la XXI Edición del Concurso de Fotografía Internacional ‘Las personas con discapacidad en la vida cotidiana’. \nEste certamen tiene como objetivo sensibilizar a la sociedad a través de la fotografía\, mostrando una imagen normalizada e integradora de las personas con discapacidad. De este modo\, se pretende ofrecer imágenes positivas\, desde la perspectiva de sus propios protagonistas\, que permitan la reflexión\, empatía\, e identificación con las personas con discapacidad. \nLas entidades organizadoras establecen tres premios: el primero\, dotado con 2.500 €\, un segundo con 1.500 €\, y un tercero con 1.000 €. \nPodrán participar fotógrafos profesionales o aficionados\, mayores de edad\, de cualquier nacionalidad\, que deberán ajustarse al tema propuesto. Por otro lado\, no podrán presentarse más de tres fotografías\, y todas ellas deberán ser inéditas y estar en formato digital. El plazo de recepción de trabajos finaliza el 6 de noviembre y el envío de archivos se realizará desde el acceso incluido en la web del certamen\, en la que también se pueden consultar las bases. \nEl fallo del jurado –compuesto por representantes del INICO\, de Aliados por la Integración\, profesores de la USAL y fotógrafos profesionales- se hará público en el mes de diciembre\, momento en el que está prevista la entrega de los trofeos. \nAlta participación y edición de libro\nEl concurso ha contado con una elevada participación a lo largo de las 20 ediciones organizadas hasta el momento. 6.750 fotógrafos han enviado casi 16.000 fotos a lo largo de estos años. Durante este año se elaborará el cuarto libro conmemorativo que se edita cada cinco años con las 20 fotos finalistas de cada edición. El nuevo volumen\, contará pues\, con las 100 mejores fotos de los años 2018 a 2022 y al igual que los anteriores\, podrá consultarse gratuitamente en la web del Concurso. \nLas fotografías proponen enfoques adecuados a las realidades humanas y promueven indicadores sociales relativos a la verdadera integración\, pero también hablan de superación y normalidad. En la web del concurso\, puede verse una galería con las fotos finalistas de cada edición: https://inico.usal.es/concursofotografia/
URL:https://cermin.org/agenda/xxi-concurso-de-fotografia-las-personas-con-discapacidad-en-la-vida-cotidiana-inico-y-aliados-por-la-integracion/
LOCATION:Online
ATTACH;FMTTYPE=image/jpeg:https://cermin.org/wp-content/uploads/2023/05/Ayudame_a_Bailar-Juan_Gestal_-2Premio-concurso-fotografia-INICO-2022-scaled.jpg
END:VEVENT
BEGIN:VEVENT
DTSTART;VALUE=DATE:20231108
DTEND;VALUE=DATE:20231116
DTSTAMP:20260421T144818
CREATED:20231002T085051Z
LAST-MODIFIED:20231002T085051Z
UID:15211-1699401600-1700092799@cermin.org
SUMMARY:CONCURSO de dibujo escolar ACODIFNA 2023
DESCRIPTION:Un año más\, ACODIFNA organiza el Concurso de Dibujo Escolar 2023.\nACODIFNA anima a los más pequeños y pequeñas a participar y desarrollar su creatividad.\n\n \nBases del concurso\nTemática\nLos dibujos que se presenten deberán reflejar una situación vivida por una persona con algún tipo de discapacidad física (integración social\, laboral\, barreras arquitectónicas\, deportiva\, etc). Además\, cada dibujo deberá incluir un lema o título que represente el dibujo. \nCaracterísticas de los dibujos\nLos dibujos deberán ser entregados sobre papel o cartulina\, en formato A3 o A4 y pueden realizarse o bien en blanco y negro o en colores. \nSe valorará positivamente\, que en el dibujo no haya mucho texto\, y también que no tenga muchos “bocadillos” y que no esté compuesto de viñetas. \nEn el reverso se indicarán: el nombre y apellidos\, edad\, curso\, contacto\, entidad o centro escolar (en el caso de que se manden desde allí) y localidad del niño o niña participante. Asimismo se deberá poner el lema o título del dibujo. \nRecepción de obras y fallo del jurado\nLa fecha límite para la entrega de los dibujos participantes es el 15 de noviembre de 2023 en los locales de la Asociación Coordinadora de Personas con Discapacidad Física de Navarra\, ACODIFNA (Dr. Labayen 15\, Bajo). \nUna vez terminado el plazo de presentación de dibujos\, se constituirá un Jurado compuesto por varios representantes de ACODIFNA\, que el día 17 de noviembre de 2023 nombrarán a los ganadores de este Concurso Escolar 2023. \nEntrega de premios\n\nEl primer premio consiste en un cheque canjeable por material deportivo y/o juegos didácticos por valor de 150€.\nEl segundo premio consiste en un cheque canjeable por material deportivo y/o juegos didácticos por valor de 100€.\nEl tercer premio consiste en un cheque canjeable por material deportivo y/o juegos didácticos por valor de 50€.\n\nLa entrega de premios y diplomas se realizará en la semana del 20 de noviembre en los locales de ACODIFNA (Dr. Labayen 15\, Bajo). \nBases del concurso en PDF.
URL:https://cermin.org/agenda/concurso-de-dibujo-escolar-acodifna-2023/
LOCATION:ACODIFNA\, Dr. Labayen 15\, Bajo\, Pamplona/Iruña\, NAVARRA
ATTACH;FMTTYPE=image/jpeg:https://cermin.org/wp-content/uploads/2023/10/CARTEL-DIBUJO-ESCOLAR-ACODIFNA-2023-castellano.jpg
END:VEVENT
END:VCALENDAR