BEGIN:VCALENDAR
VERSION:2.0
PRODID:-//Cermin - ECPv6.15.17.1//NONSGML v1.0//EN
CALSCALE:GREGORIAN
METHOD:PUBLISH
X-WR-CALNAME:Cermin
X-ORIGINAL-URL:https://cermin.org
X-WR-CALDESC:Eventos para Cermin
REFRESH-INTERVAL;VALUE=DURATION:PT1H
X-Robots-Tag:noindex
X-PUBLISHED-TTL:PT1H
BEGIN:VTIMEZONE
TZID:Europe/Madrid
BEGIN:DAYLIGHT
TZOFFSETFROM:+0100
TZOFFSETTO:+0200
TZNAME:CEST
DTSTART:20220327T010000
END:DAYLIGHT
BEGIN:STANDARD
TZOFFSETFROM:+0200
TZOFFSETTO:+0100
TZNAME:CET
DTSTART:20221030T010000
END:STANDARD
BEGIN:DAYLIGHT
TZOFFSETFROM:+0100
TZOFFSETTO:+0200
TZNAME:CEST
DTSTART:20230326T010000
END:DAYLIGHT
BEGIN:STANDARD
TZOFFSETFROM:+0200
TZOFFSETTO:+0100
TZNAME:CET
DTSTART:20231029T010000
END:STANDARD
BEGIN:DAYLIGHT
TZOFFSETFROM:+0100
TZOFFSETTO:+0200
TZNAME:CEST
DTSTART:20240331T010000
END:DAYLIGHT
BEGIN:STANDARD
TZOFFSETFROM:+0200
TZOFFSETTO:+0100
TZNAME:CET
DTSTART:20241027T010000
END:STANDARD
END:VTIMEZONE
BEGIN:VEVENT
DTSTART;VALUE=DATE:20230825
DTEND;VALUE=DATE:20230901
DTSTAMP:20260419T234342
CREATED:20230531T105552Z
LAST-MODIFIED:20230531T105552Z
UID:14841-1692921600-1693526399@cermin.org
SUMMARY:Inscripciones Diploma LaborAble UPNA – Curso 2023/2024
DESCRIPTION:Abierto el plazo de inscripción al Diploma LaborAble para el curso 2023/2024: inscripciones del 9 de mayo al 31 de agosto.\nEl curso es gratuito.\n\n \nYa están abiertas las inscripciones al “Diploma de Extensión Universitaria LaborAble: desarrollo de competencias para el empleo” para el curso 2023/2024. La formación está dirigida a jóvenes con discapacidad intelectual de entre 18 y 30 años\, y es una gran oportunidad para que estos chicos y chicas puedan mejorar sus competencias y adquirir habilidades que les ayudarán a incorporarse y desenvolverse en el mercado laboral. \nEl curso es gratuito\, ya que cuenta con la financiación de Fundación ONCE. \nSobre el Diploma LaborAble\nA pesar de contar con un marco normativo que promueve la inclusión en todos los ámbitos de la vida\, los jóvenes con discapacidad se encuentran\, por un lado\, con la falta de oportunidades formativas y laborales adaptadas a sus características y a su ritmo de aprendizaje. El Diploma LaborAble es un título propio de la UPNA que ofrece una formación universitaria adaptada a estas carencias formativas\, con el objetivo de preparar al alumnado para incorporarse tanto al mercado de la empresa privada\, como al acceso a las convocatorias de la Administración Pública. \nLos y las jóvenes que lo cursen adquirirán habilidades sociales y emocionales para relacionarse con éxito en diferentes entornos formativos y laborales; desarrollarán sus habilidades cognitivas\, de relación y prácticas y conocerán y emplearán de forma autónoma y responsable las diferentes técnicas de búsqueda activa de empleo. Además\, conocerán y practicarán técnicas de comunicación y atención eficaz centradas en la atención al cliente. Así\, el alumnado participará de la vida universitaria en condiciones de igualdad con el resto de estudiantes de la UPNA. \nEl curso permitirá adquirir varias cualificaciones académicas y profesionales: \n\nCompetencias personales para el empleo.\nCompetencias laborales para el empleo.\nCompetencias relacionadas con auxiliar de gestión y TICS.\nCompetencias prácticas en el puesto de trabajo a través de las prácticas.\n\nMás información sobre el curso y la inscripción.
URL:https://cermin.org/agenda/inscripciones-diploma-laborable-upna-curso-2023-2024/
LOCATION:AULARIO UPNA\, C/ Cataluña\, Pamplona/Iruña
ATTACH;FMTTYPE=image/jpeg:https://cermin.org/wp-content/uploads/2023/05/Sin-titulo.jpg
END:VEVENT
END:VCALENDAR