BEGIN:VCALENDAR
VERSION:2.0
PRODID:-//Cermin - ECPv6.15.17.1//NONSGML v1.0//EN
CALSCALE:GREGORIAN
METHOD:PUBLISH
X-WR-CALNAME:Cermin
X-ORIGINAL-URL:https://cermin.org
X-WR-CALDESC:Eventos para Cermin
REFRESH-INTERVAL;VALUE=DURATION:PT1H
X-Robots-Tag:noindex
X-PUBLISHED-TTL:PT1H
BEGIN:VTIMEZONE
TZID:Europe/Madrid
BEGIN:DAYLIGHT
TZOFFSETFROM:+0100
TZOFFSETTO:+0200
TZNAME:CEST
DTSTART:20210328T010000
END:DAYLIGHT
BEGIN:STANDARD
TZOFFSETFROM:+0200
TZOFFSETTO:+0100
TZNAME:CET
DTSTART:20211031T010000
END:STANDARD
BEGIN:DAYLIGHT
TZOFFSETFROM:+0100
TZOFFSETTO:+0200
TZNAME:CEST
DTSTART:20220327T010000
END:DAYLIGHT
BEGIN:STANDARD
TZOFFSETFROM:+0200
TZOFFSETTO:+0100
TZNAME:CET
DTSTART:20221030T010000
END:STANDARD
BEGIN:DAYLIGHT
TZOFFSETFROM:+0100
TZOFFSETTO:+0200
TZNAME:CEST
DTSTART:20230326T010000
END:DAYLIGHT
BEGIN:STANDARD
TZOFFSETFROM:+0200
TZOFFSETTO:+0100
TZNAME:CET
DTSTART:20231029T010000
END:STANDARD
END:VTIMEZONE
BEGIN:VEVENT
DTSTART;TZID=Europe/Madrid:20221210T110000
DTEND;TZID=Europe/Madrid:20221210T200000
DTSTAMP:20260421T032026
CREATED:20221207T120934Z
LAST-MODIFIED:20221207T121112Z
UID:13926-1670670000-1670702400@cermin.org
SUMMARY:Día Internacional de los Derechos Humanos 2022 - GOBIERNO DE NAVARRA
DESCRIPTION:Desde la Dirección General de Paz\, Convivencia y Derechos Humanos de Gobierno de Navarra organizan el Día Internacional de los Derechos Humanos 2022. \nEl sábado 10 de diciembre\, de las 11 a las 14 horas y de las 17 a las 20 horas\, habrá actividades\, talleres y música en la Plaza del Castillo de Pamplona. CERMIN y ACODIFNA realizarán de forma conjunta el taller ‘Vive la Diversidad. Aniztasuna Bizi‘\, de 11.30 a 12.30 horas. \n 
URL:https://cermin.org/agenda/dia-internacional-de-los-derechos-humanos-2022-gobierno-de-navarra/
LOCATION:Plaza del Castillo\, Pamplona\, Plaza del Castillo\, Pamplona\, Navarra\, 31000\, España
ATTACH;FMTTYPE=image/jpeg:https://cermin.org/wp-content/uploads/2022/12/20221210-Dia-Derechos-Humanos.jpg
END:VEVENT
END:VCALENDAR