BEGIN:VCALENDAR
VERSION:2.0
PRODID:-//Cermin - ECPv6.15.17.1//NONSGML v1.0//EN
CALSCALE:GREGORIAN
METHOD:PUBLISH
X-WR-CALNAME:Cermin
X-ORIGINAL-URL:https://cermin.org
X-WR-CALDESC:Eventos para Cermin
REFRESH-INTERVAL;VALUE=DURATION:PT1H
X-Robots-Tag:noindex
X-PUBLISHED-TTL:PT1H
BEGIN:VTIMEZONE
TZID:Europe/Madrid
BEGIN:DAYLIGHT
TZOFFSETFROM:+0100
TZOFFSETTO:+0200
TZNAME:CEST
DTSTART:20210328T010000
END:DAYLIGHT
BEGIN:STANDARD
TZOFFSETFROM:+0200
TZOFFSETTO:+0100
TZNAME:CET
DTSTART:20211031T010000
END:STANDARD
BEGIN:DAYLIGHT
TZOFFSETFROM:+0100
TZOFFSETTO:+0200
TZNAME:CEST
DTSTART:20220327T010000
END:DAYLIGHT
BEGIN:STANDARD
TZOFFSETFROM:+0200
TZOFFSETTO:+0100
TZNAME:CET
DTSTART:20221030T010000
END:STANDARD
BEGIN:DAYLIGHT
TZOFFSETFROM:+0100
TZOFFSETTO:+0200
TZNAME:CEST
DTSTART:20230326T010000
END:DAYLIGHT
BEGIN:STANDARD
TZOFFSETFROM:+0200
TZOFFSETTO:+0100
TZNAME:CET
DTSTART:20231029T010000
END:STANDARD
END:VTIMEZONE
BEGIN:VEVENT
DTSTART;TZID=Europe/Madrid:20221216T120000
DTEND;TZID=Europe/Madrid:20221216T133000
DTSTAMP:20260420T123919
CREATED:20221130T113900Z
LAST-MODIFIED:20221219T112304Z
UID:13884-1671192000-1671197400@cermin.org
SUMMARY:CONMEMORACIÓN: 'Día Internacional y Europeo de las Personas con Discapacidad 2022' - CERMI NAVARRA
DESCRIPTION:El CERMIN conmemora el VIERNES\, 16 de diciembre\, el Día Internacional de las Personas con Discapacidad 2022. \n\nFecha: VIERNES\, 16 de diciembre de 2022.\nHora: 12.00-13.30 horas.\nLugar: Auditorio de CIVICAN. Avenida de Pío XII\, 2. Pamplona-Iruña.\n\nEl lugar es accesible para personas con movilidad reducida y el acto contará con medidas de accesibilidad como son subtitulado e intérprete de lengua de signos. \nEnlace de inscripción: https://docs.google.com/forms/d/e/1FAIpQLScvyq18CUodEexSkBe45Vbo4HmRl6q2LL-6mhzqiYfL6IEmaw/viewform \nPrograma del acto\nPrograma en castellano: acto por el Día de la Discapacidad 2022 \nPrograma en Lectura Fácil \nSeguir en directo\nSigue el evento en directo a través de este enlace. \nManifiesto de CERMIN por el Día Internacional de la Discapacidad 2022\nManifiesto de CERMIN por el Día Internacional de las Personas con Discapacidad 2022 (PDF) \n 
URL:https://cermin.org/agenda/conmemoracion-dia-internacional-y-europeo-de-las-personas-con-discapacidad-2022-cermi-navarra/
LOCATION:AUDITORIO CIVICAN\, AVDA\, PIO XII Nº 2\, Pamplona/Iruña\, NAVARRA
ATTACH;FMTTYPE=image/png:https://cermin.org/wp-content/uploads/2022/11/Dia-discapacidad-2022-cartel-1-logos-bien.png
END:VEVENT
END:VCALENDAR