BEGIN:VCALENDAR
VERSION:2.0
PRODID:-//Cermin - ECPv6.15.17.1//NONSGML v1.0//EN
CALSCALE:GREGORIAN
METHOD:PUBLISH
X-ORIGINAL-URL:https://cermin.org
X-WR-CALDESC:Eventos para Cermin
REFRESH-INTERVAL;VALUE=DURATION:PT1H
X-Robots-Tag:noindex
X-PUBLISHED-TTL:PT1H
BEGIN:VTIMEZONE
TZID:Europe/Madrid
BEGIN:DAYLIGHT
TZOFFSETFROM:+0100
TZOFFSETTO:+0200
TZNAME:CEST
DTSTART:20210328T010000
END:DAYLIGHT
BEGIN:STANDARD
TZOFFSETFROM:+0200
TZOFFSETTO:+0100
TZNAME:CET
DTSTART:20211031T010000
END:STANDARD
BEGIN:DAYLIGHT
TZOFFSETFROM:+0100
TZOFFSETTO:+0200
TZNAME:CEST
DTSTART:20220327T010000
END:DAYLIGHT
BEGIN:STANDARD
TZOFFSETFROM:+0200
TZOFFSETTO:+0100
TZNAME:CET
DTSTART:20221030T010000
END:STANDARD
BEGIN:DAYLIGHT
TZOFFSETFROM:+0100
TZOFFSETTO:+0200
TZNAME:CEST
DTSTART:20230326T010000
END:DAYLIGHT
BEGIN:STANDARD
TZOFFSETFROM:+0200
TZOFFSETTO:+0100
TZNAME:CET
DTSTART:20231029T010000
END:STANDARD
END:VTIMEZONE
BEGIN:VEVENT
DTSTART;TZID=Europe/Madrid:20221114T111500
DTEND;TZID=Europe/Madrid:20221114T111500
DTSTAMP:20260420T222453
CREATED:20221108T084817Z
LAST-MODIFIED:20221108T084817Z
UID:13725-1668424500-1668424500@cermin.org
SUMMARY:JORNADA 'MI Casa' - Ciclo Todos Somos Todas - PLENA INCLUSIÓN
DESCRIPTION:Plena inclusión Navarra celebra la IV Jornada técnica ‘Todos Somos Todas’ el 14 de noviembre\, a las 11.15 horas de la mañana en el salón de actos de CIVICAN\, bajo el título ‘El proyecto MI Casa – Una vida en comunidad’. \n‘Todos somos Todas’ tiene como fin visibilizar la situación de las personas con discapacidad intelectual o del desarrollo que tienen grandes necesidades de apoyo. \nCon Proyecto ‘MI CASA’ se quiere promover procesos de desinstitucionalización y desarrollar modelos de vivienda y vida en la comunidad para personas con grandes necesidades de apoyo. \nEn la jornada se profundizará en el proyecto MI casa con Sofia Reyes\, responsable del proyecto en Plena inclusión confederación\, y se presentarán las buenas experiencias que se están realizando en Aragón o Madrid. \nInscríbete en el siguiente enlace: https://forms.gle/4dtH6DXF5Cid1b8Z9 \nEsta jornada también se podrá seguir on line en el canal de YouTube de CIVICAN en el siguiente enlace: https://youtu.be/czIqXNI7WRM \nModera: Ángel Goñi – Presidente de Plena inclusión Navarra. \nPrograma del evento en PDF.
URL:https://cermin.org/agenda/jornada-mi-casa-ciclo-todos-somos-todas-plena-inclusion/
LOCATION:AUDITORIO CIVICAN\, AVDA\, PIO XII Nº 2\, Pamplona/Iruña\, NAVARRA
ATTACH;FMTTYPE=image/jpeg:https://cermin.org/wp-content/uploads/2021/02/logo-plena-inclusion.jpg
END:VEVENT
END:VCALENDAR