BEGIN:VCALENDAR
VERSION:2.0
PRODID:-//Cermin - ECPv6.15.17.1//NONSGML v1.0//EN
CALSCALE:GREGORIAN
METHOD:PUBLISH
X-ORIGINAL-URL:https://cermin.org
X-WR-CALDESC:Eventos para Cermin
REFRESH-INTERVAL;VALUE=DURATION:PT1H
X-Robots-Tag:noindex
X-PUBLISHED-TTL:PT1H
BEGIN:VTIMEZONE
TZID:Europe/Madrid
BEGIN:DAYLIGHT
TZOFFSETFROM:+0100
TZOFFSETTO:+0200
TZNAME:CEST
DTSTART:20210328T010000
END:DAYLIGHT
BEGIN:STANDARD
TZOFFSETFROM:+0200
TZOFFSETTO:+0100
TZNAME:CET
DTSTART:20211031T010000
END:STANDARD
BEGIN:DAYLIGHT
TZOFFSETFROM:+0100
TZOFFSETTO:+0200
TZNAME:CEST
DTSTART:20220327T010000
END:DAYLIGHT
BEGIN:STANDARD
TZOFFSETFROM:+0200
TZOFFSETTO:+0100
TZNAME:CET
DTSTART:20221030T010000
END:STANDARD
BEGIN:DAYLIGHT
TZOFFSETFROM:+0100
TZOFFSETTO:+0200
TZNAME:CEST
DTSTART:20230326T010000
END:DAYLIGHT
BEGIN:STANDARD
TZOFFSETFROM:+0200
TZOFFSETTO:+0100
TZNAME:CET
DTSTART:20231029T010000
END:STANDARD
END:VTIMEZONE
BEGIN:VEVENT
DTSTART;TZID=Europe/Madrid:20220927T103000
DTEND;TZID=Europe/Madrid:20220927T120000
DTSTAMP:20260423T061053
CREATED:20220909T075632Z
LAST-MODIFIED:20220909T075632Z
UID:13261-1664274600-1664280000@cermin.org
SUMMARY:Diversidad transversal: empleo y personas LGTBI con discapacidad
DESCRIPTION:El martes 27 de septiembre a las 10.30 h tendrá lugar el evento coorganizado entre Fundación ONCE\, REDI e Inserta Empleo: ‘Diversidad transversal: empleo y personas LGTBI con discapacidad’. \nSe trata de un evento abierto a todo el público que se celebrará en el HUB de Por Talento Digital\, calle Fray Luis de León\, 11 de Madrid y que también será retransmitido vía streaming. \nEn el acto participarán las empresas Accenture\, bp\, P&G y Siemens\, y se abordará\, por primera vez\, la transversalidad de la diversidad LGTBI entre las personas con discapacidad\, los retos específicos a los que se enfrentan a la hora de su inclusión laboral y las buenas prácticas corporativas que ya se están aplicando en esta materia. \nPuedes inscribirte en el siguiente Boletín de Inscripción. \n  \nCartel del evento ‘Diversidad transversal: empleo y personas LGTBI con discapacidad’.
URL:https://cermin.org/agenda/diversidad-transversal-empleo-y-personas-lgtbi-con-discapacidad/
LOCATION:HUB Por Talento Digital\, C/ Fray Luis de León\, 11\, Madrid\, Madrid\, 28008\, España
ATTACH;FMTTYPE=image/png:https://cermin.org/wp-content/uploads/2022/09/REDI_Diversidad_Transversal_cartel_horizontal_27-09-2022.png
END:VEVENT
END:VCALENDAR