BEGIN:VCALENDAR
VERSION:2.0
PRODID:-//Cermin - ECPv6.15.20//NONSGML v1.0//EN
CALSCALE:GREGORIAN
METHOD:PUBLISH
X-WR-CALNAME:Cermin
X-ORIGINAL-URL:https://cermin.org
X-WR-CALDESC:Eventos para Cermin
REFRESH-INTERVAL;VALUE=DURATION:PT1H
X-Robots-Tag:noindex
X-PUBLISHED-TTL:PT1H
BEGIN:VTIMEZONE
TZID:Europe/Madrid
BEGIN:DAYLIGHT
TZOFFSETFROM:+0100
TZOFFSETTO:+0200
TZNAME:CEST
DTSTART:20210328T010000
END:DAYLIGHT
BEGIN:STANDARD
TZOFFSETFROM:+0200
TZOFFSETTO:+0100
TZNAME:CET
DTSTART:20211031T010000
END:STANDARD
BEGIN:DAYLIGHT
TZOFFSETFROM:+0100
TZOFFSETTO:+0200
TZNAME:CEST
DTSTART:20220327T010000
END:DAYLIGHT
BEGIN:STANDARD
TZOFFSETFROM:+0200
TZOFFSETTO:+0100
TZNAME:CET
DTSTART:20221030T010000
END:STANDARD
BEGIN:DAYLIGHT
TZOFFSETFROM:+0100
TZOFFSETTO:+0200
TZNAME:CEST
DTSTART:20230326T010000
END:DAYLIGHT
BEGIN:STANDARD
TZOFFSETFROM:+0200
TZOFFSETTO:+0100
TZNAME:CET
DTSTART:20231029T010000
END:STANDARD
END:VTIMEZONE
BEGIN:VEVENT
DTSTART;TZID=Europe/Madrid:20221027T110000
DTEND;TZID=Europe/Madrid:20221027T130000
DTSTAMP:20260423T231555
CREATED:20221025T110434Z
LAST-MODIFIED:20221025T110434Z
UID:13620-1666868400-1666875600@cermin.org
SUMMARY:JORNADA "Comunicar la discapacidad: retos para construir desde la comunicación" - EDEKA
DESCRIPTION:La Coordinadora Vasca de Representantes de personas con discapacidad (EDEKA) celebrará la jornada “Comunicar la discapacidad; retos para construir desde la comunicación” el próximo jueves\, 27 de octubre de 11.00 a 13.00 horas en Intxaurrondoko Kultur Etxea en Donostia. \nEn esta ocasión\, esta jornada\, presentada y dinamizada por la periodista Pilar Kaltzada\, se centrará en abordar la comunicación de la discapacidad y analizar aspectos como el lenguaje que se utiliza en los medios de comunicación y su influencia\, cómo mejorar la información sobre discapacidad\, qué se puede hacer desde lo público\, etc. Además\, presentarán la guía “Cómo hablar de personas con discapacidad”\, con recomendaciones para construir desde la comunicación. \nLa apertura correrá a cargo del presidente de EDEKA\, Aitor Bedialauneta; la diputada de Políticas Sociales de la Diputación Foral de Gipuzkoa\, Maite Peña y la consejera de Igualdad\, Justicia y Políticas Sociales del Gobierno Vasco\, Beatriz Artolazabal. \nTras la inauguración\, tendrá lugar la presentación de la guía EDEKA de la mano de Lucía Soria\, miembro de FEVAS Plena Inclusión Euskadi y Sebasten Goikoetxea de FEVASPACE. \nA continuación\, se desarrollará una mesa redonda sobre “cómo se trata hoy la discapacidad y retos desde los medios de comunicación”. Durante la misma intervendrán la periodista y fundadora de BB Podcasting\, Begoña Beristain; el responsable de prensa de EKA/ACUV (Asociación de personas consumidoras y usuarias vasca\, Ander Cornejo; la decana del colegio vaso de periodistas\, Amaia Goikoetxea y la periodista en Berria\, Arantxa Iraola. \nConvocatoria de la jornada en castellano. Formato PDF. \nConvocatoria de la jornada en euskera. Formato PDF. \nPrograma de la jornada.
URL:https://cermin.org/agenda/jornada-comunicar-la-discapacidad-retos-para-construir-desde-la-comunicacion-edeka/
LOCATION:DONOSTI
END:VEVENT
END:VCALENDAR