BEGIN:VCALENDAR
VERSION:2.0
PRODID:-//Cermin - ECPv6.15.17.1//NONSGML v1.0//EN
CALSCALE:GREGORIAN
METHOD:PUBLISH
X-WR-CALNAME:Cermin
X-ORIGINAL-URL:https://cermin.org
X-WR-CALDESC:Eventos para Cermin
REFRESH-INTERVAL;VALUE=DURATION:PT1H
X-Robots-Tag:noindex
X-PUBLISHED-TTL:PT1H
BEGIN:VTIMEZONE
TZID:Europe/Madrid
BEGIN:DAYLIGHT
TZOFFSETFROM:+0100
TZOFFSETTO:+0200
TZNAME:CEST
DTSTART:20210328T010000
END:DAYLIGHT
BEGIN:STANDARD
TZOFFSETFROM:+0200
TZOFFSETTO:+0100
TZNAME:CET
DTSTART:20211031T010000
END:STANDARD
BEGIN:DAYLIGHT
TZOFFSETFROM:+0100
TZOFFSETTO:+0200
TZNAME:CEST
DTSTART:20220327T010000
END:DAYLIGHT
BEGIN:STANDARD
TZOFFSETFROM:+0200
TZOFFSETTO:+0100
TZNAME:CET
DTSTART:20221030T010000
END:STANDARD
BEGIN:DAYLIGHT
TZOFFSETFROM:+0100
TZOFFSETTO:+0200
TZNAME:CEST
DTSTART:20230326T010000
END:DAYLIGHT
BEGIN:STANDARD
TZOFFSETFROM:+0200
TZOFFSETTO:+0100
TZNAME:CET
DTSTART:20231029T010000
END:STANDARD
END:VTIMEZONE
BEGIN:VEVENT
DTSTART;VALUE=DATE:20221103
DTEND;VALUE=DATE:20221104
DTSTAMP:20260420T015400
CREATED:20221102T120905Z
LAST-MODIFIED:20221102T120905Z
UID:13664-1667433600-1667519999@cermin.org
SUMMARY:PRESENTACIÓN del cuento inclusivo 'Te cuento' - HIRU HAMABI
DESCRIPTION:Hiru Hamabi | 3/12 invita a participar en la presentación-charla del proyecto ‘Te cuento’\, un cuento inclusivo sobre el daño cerebral adquirido infantil (DCAI). Se hablará del DCAI en la escuela y de estrategias de apoyo para el profesorado. Con la participación de: \n\nDoña Begoña Pérez Eransus\, vicerrectora de Proyección Universitaria\, Cultura y Divulgación de la Universidad Pública de Navarra (UPNA).\nDoña Mª José Cortés Itarte\, directora del Servicio de Inclusión\, Igualdad y Convivencia del Departamento de Educación.\nDoña Mª Inés Gabari Gambarte\, decana de la Facultad de Ciencias Humanas\, Sociales y de la Educación de la UNPA.\n\nLa presentación será el 3 de noviembre y tendrá lugar en la Sala Grados ETSIAB de la UPNA\, a las 12.30 horas. \nCartel de la jornada.
URL:https://cermin.org/agenda/presentacion-del-cuento-inclusivo-te-cuento-hiru-hamabi/
LOCATION:UPNA\, Av. Cataluña\, s/n\, Pamplona\, Navarra\, 31006\, España
ATTACH;FMTTYPE=image/jpeg:https://cermin.org/wp-content/uploads/2022/11/Cartel-Te-Cuento-con-ponentes-definitivos.jpg
ORGANIZER;CN="HIRU HAMABI":MAILTO:info@hiruhamabi.org
END:VEVENT
END:VCALENDAR