BEGIN:VCALENDAR
VERSION:2.0
PRODID:-//Cermin - ECPv6.15.17.1//NONSGML v1.0//EN
CALSCALE:GREGORIAN
METHOD:PUBLISH
X-WR-CALNAME:Cermin
X-ORIGINAL-URL:https://cermin.org
X-WR-CALDESC:Eventos para Cermin
REFRESH-INTERVAL;VALUE=DURATION:PT1H
X-Robots-Tag:noindex
X-PUBLISHED-TTL:PT1H
BEGIN:VTIMEZONE
TZID:Europe/Madrid
BEGIN:DAYLIGHT
TZOFFSETFROM:+0100
TZOFFSETTO:+0200
TZNAME:CEST
DTSTART:20210328T010000
END:DAYLIGHT
BEGIN:STANDARD
TZOFFSETFROM:+0200
TZOFFSETTO:+0100
TZNAME:CET
DTSTART:20211031T010000
END:STANDARD
BEGIN:DAYLIGHT
TZOFFSETFROM:+0100
TZOFFSETTO:+0200
TZNAME:CEST
DTSTART:20220327T010000
END:DAYLIGHT
BEGIN:STANDARD
TZOFFSETFROM:+0200
TZOFFSETTO:+0100
TZNAME:CET
DTSTART:20221030T010000
END:STANDARD
BEGIN:DAYLIGHT
TZOFFSETFROM:+0100
TZOFFSETTO:+0200
TZNAME:CEST
DTSTART:20230326T010000
END:DAYLIGHT
BEGIN:STANDARD
TZOFFSETFROM:+0200
TZOFFSETTO:+0100
TZNAME:CET
DTSTART:20231029T010000
END:STANDARD
END:VTIMEZONE
BEGIN:VEVENT
DTSTART;TZID=Europe/Madrid:20220901T170000
DTEND;TZID=Europe/Madrid:20220930T210000
DTSTAMP:20260420T202935
CREATED:20220921T072725Z
LAST-MODIFIED:20220921T074024Z
UID:13333-1662051600-1664571600@cermin.org
SUMMARY:Exposición Afrikarte
DESCRIPTION:Fundación ATENA organiza la exposición Afrikarte en la Casa de Mujeres de Pamplona. \nDel 1 al 30 de septiembre\, de 17:00 a 21:00 horas. \nCartel de la exposición Afrikarte.
URL:https://cermin.org/agenda/exposicion-afrikarte/
LOCATION:Casa de Mujeres de Pamplona\, C/ Aoiz\, 9A\, Pamplona\, Navarra\, 31004\, España
ATTACH;FMTTYPE=image/png:https://cermin.org/wp-content/uploads/2022/09/2022091-20220930-Afrikarte-cartel.png
END:VEVENT
BEGIN:VEVENT
DTSTART;VALUE=DATE:20220916
DTEND;VALUE=DATE:20220930
DTSTAMP:20260420T202935
CREATED:20220921T075418Z
LAST-MODIFIED:20220921T075418Z
UID:13338-1663286400-1664495999@cermin.org
SUMMARY:Exposición 'Dignidad humana: Un grito que no cesa'
DESCRIPTION:Desde el Ayuntamiento de Tudela se ha colaborado con la Dirección General de Paz\, Convivencia y Derechos Humanos del Departamento de Relaciones Ciudadanas para ubicar en Tudela\, del 16 al 29 de septiembre en el Centro Cívico Lourdes\, la exposición “Dignidad Humana: Un grito que no cesa”\, sobre los Derechos Humanos contenidos en la declaración universal de 1948. \nEste proyecto se compone de una exposición y de un taller artístico abierto a la participación de la ciudadanía. Asimismo\, esta propuesta de reflexión culminará en Pamplona\, el 10 de diciembre\, Día Internacional de los Derechos Humanos\, con una jornada festiva. \nLa exposición aborda a través de sus 32 paneles\, y en lenguaje accesible\, los artículos que están contenidos en la Declaración Universal de los Derechos Humanos de 1948. Además\, los paneles incorporan una reflexión sobre la aplicación actual de cada derecho en Navarra y en otros contextos internacionales. \nAdemás\, de la mano de la artista visual y arteterapeuta\, María José Llorente y de las asociaciones\, el público de Tudela podrá formar parte de un proyecto artístico colaborativo\, en torno a la consciencia y coherencia que tenemos respecto de los Derechos Humanos\, del 16 al 23 de septiembre en el Centro Lasa. \nTambién habrá un taller sobre “Los Derechos Humanos sobre la Mesa”\, el 29 de septiembre de 18 a 20 horas en el Centro Cívico Lourdes\, realizado por la Red navarra de lucha contra la pobreza y exclusión social. \nCartel de la Exposición ‘Dignidad humana: Un grito que no cesa’.
URL:https://cermin.org/agenda/exposicion-dignidad-humana-un-grito-que-no-cesa/
LOCATION:Tudela\, Navarra\, 31500\, España
ATTACH;FMTTYPE=image/jpeg:https://cermin.org/wp-content/uploads/2022/09/20220916-20220929-Exposicion-Derechos-Humanos-Tudela-scaled.jpg
ORGANIZER;CN="AYUNTAMIENTO DE TUDELA":MAILTO:sac010@tudela.es
END:VEVENT
END:VCALENDAR