BEGIN:VCALENDAR
VERSION:2.0
PRODID:-//Cermin - ECPv6.15.17.1//NONSGML v1.0//EN
CALSCALE:GREGORIAN
METHOD:PUBLISH
X-ORIGINAL-URL:https://cermin.org
X-WR-CALDESC:Eventos para Cermin
REFRESH-INTERVAL;VALUE=DURATION:PT1H
X-Robots-Tag:noindex
X-PUBLISHED-TTL:PT1H
BEGIN:VTIMEZONE
TZID:Europe/Madrid
BEGIN:DAYLIGHT
TZOFFSETFROM:+0100
TZOFFSETTO:+0200
TZNAME:CEST
DTSTART:20210328T010000
END:DAYLIGHT
BEGIN:STANDARD
TZOFFSETFROM:+0200
TZOFFSETTO:+0100
TZNAME:CET
DTSTART:20211031T010000
END:STANDARD
BEGIN:DAYLIGHT
TZOFFSETFROM:+0100
TZOFFSETTO:+0200
TZNAME:CEST
DTSTART:20220327T010000
END:DAYLIGHT
BEGIN:STANDARD
TZOFFSETFROM:+0200
TZOFFSETTO:+0100
TZNAME:CET
DTSTART:20221030T010000
END:STANDARD
BEGIN:DAYLIGHT
TZOFFSETFROM:+0100
TZOFFSETTO:+0200
TZNAME:CEST
DTSTART:20230326T010000
END:DAYLIGHT
BEGIN:STANDARD
TZOFFSETFROM:+0200
TZOFFSETTO:+0100
TZNAME:CET
DTSTART:20231029T010000
END:STANDARD
END:VTIMEZONE
BEGIN:VEVENT
DTSTART;VALUE=DATE:20221124
DTEND;VALUE=DATE:20221127
DTSTAMP:20260420T161424
CREATED:20221111T091837Z
LAST-MODIFIED:20221111T091837Z
UID:13701-1669248000-1669507199@cermin.org
SUMMARY:V Foro Social de Mujeres y Niñas con Discapacidad - Fundación CERMI Mujeres y CERMI Castilla-La Mancha
DESCRIPTION:La Fundación CERMI Mujeres (FCM)\, con la colaboración del CERMI Castilla-La Mancha\, celebrará\, del 24 al 26 de noviembre\, el ‘V Foro Social de Mujeres y Niñas con Discapacidad’\, bajo el título ‘No Estás Sola’. \nSerá en Albacete\, en el marco del 25 de noviembre (Día Internacional de la eliminación de la Violencia contra la mujer). El Hotel Beatriz de Albacete es el lugar escogido para el desarrollo de una amplia agenda cuyo eje vertebrador en esta edición será abordar el impacto de la violencia contra las mujeres y niñas con discapacidad en todas sus formas. \nPrograma del Foro\n24 de noviembre\nEn la tarde del 24 de noviembre tendrá lugar el acto de apertura del V Foro Social. Posteriormente\, se impartirá una ponencia marco bajo el título ‘Las mujeres y niñas con discapacidad en el Pacto de Estado contra la Violencia de Género’\, al que acompañarán un debate abierto y un testimonio en primera persona de mujeres supervivientes de violencia. \nActo seguido\, todas las personas participantes se desplazarán al Centro de Interpretación del Agua de Albacete\, donde serán recibidas por el alcalde de la localidad. Allí se hará lectura pública del manifiesto con motivo del Día Internacional de la Eliminación de la Violencia contra la Mujer; y\, a continuación\, lectura del fallo y entrega de los premios de fotografía y vídeo ‘Generosidad’\, que se expondrán en la inauguración de la exposición ‘Yo decido’. \n25 de noviembre\nLa mañana siguiente arrancará con cuatro espacios de encuentro entre mujeres con discapacidad: violencia contra mujeres y niñas con discapacidad\, acceso a la justicia\, gestión de los cuidados y ‘yo decido’. Tras una pausa\, un completo panel de instancias estatales expertas en la materia abordará la trata y la explotación sexual como formas de violencia contra las mujeres y niñas con discapacidad. \nMás adelante tomarán la palabra los órganos autonómicos de defensa de los derechos de las mujeres\, que compartirán buenas prácticas de la política pública para combatir la violencia contra mujeres y niñas con discapacidad. Como colofón\, todas las personas asistentes se sumarán a la marcha pública del 25N en el centro de Albacete. \n26 de noviembre\nLa última jornada\, 26 de noviembre\, dará inicio con unas sesiones consultivas sobre el ejercicio de derechos de las mujeres y niñas con discapacidad\, que servirán para la recogida de información a través de un cuestionario de la FCM de cara al Informe de Derechos Humanos 2022. \nSerá también el turno de las niñas con discapacidad que\, al igual que sus hermanas mayores\, tendrán su propio espacio de encuentro. Concretamente\, lo harán en el Museo del Niño de Albacete. Tras la actividad se elaborarán las conclusiones de este intercambio al que están llamadas las más de dos millones y medio de ciudadanas con discapacidad de nuestro país. \nEsta última mañana se reserva para la entrega de los premios CERMI.es 2022 en su categoría Fundación CERMI Mujeres – Acción en beneficio de las mujeres con discapacidad. Otorgado el galardón y previo a la ceremonia de clausura\, el V Foro Social pondrá el broche de oro con la intervención de una figura relevante y amiga de las personas con discapacidad. \nDescargar programa en PDF. \nDescargar programa en Word.
URL:https://cermin.org/agenda/v-foro-social-de-mujeres-y-ninas-con-discapacidad-fundacion-cermi-mujeres-y-cermi-castilla-la-mancha/
LOCATION:Albacete\, Albacete\, Albacete\, Castilla-La Mancha\, España
ATTACH;FMTTYPE=image/jpeg:https://cermin.org/wp-content/uploads/2021/09/FCM_ods.jpg
END:VEVENT
END:VCALENDAR