BEGIN:VCALENDAR
VERSION:2.0
PRODID:-//Cermin - ECPv6.15.17.1//NONSGML v1.0//EN
CALSCALE:GREGORIAN
METHOD:PUBLISH
X-WR-CALNAME:Cermin
X-ORIGINAL-URL:https://cermin.org
X-WR-CALDESC:Eventos para Cermin
REFRESH-INTERVAL;VALUE=DURATION:PT1H
X-Robots-Tag:noindex
X-PUBLISHED-TTL:PT1H
BEGIN:VTIMEZONE
TZID:Europe/Madrid
BEGIN:DAYLIGHT
TZOFFSETFROM:+0100
TZOFFSETTO:+0200
TZNAME:CEST
DTSTART:20220327T010000
END:DAYLIGHT
BEGIN:STANDARD
TZOFFSETFROM:+0200
TZOFFSETTO:+0100
TZNAME:CET
DTSTART:20221030T010000
END:STANDARD
BEGIN:DAYLIGHT
TZOFFSETFROM:+0100
TZOFFSETTO:+0200
TZNAME:CEST
DTSTART:20230326T010000
END:DAYLIGHT
BEGIN:STANDARD
TZOFFSETFROM:+0200
TZOFFSETTO:+0100
TZNAME:CET
DTSTART:20231029T010000
END:STANDARD
BEGIN:DAYLIGHT
TZOFFSETFROM:+0100
TZOFFSETTO:+0200
TZNAME:CEST
DTSTART:20240331T010000
END:DAYLIGHT
BEGIN:STANDARD
TZOFFSETFROM:+0200
TZOFFSETTO:+0100
TZNAME:CET
DTSTART:20241027T010000
END:STANDARD
END:VTIMEZONE
BEGIN:VEVENT
DTSTART;TZID=Europe/Madrid:20230301T100000
DTEND;TZID=Europe/Madrid:20230301T140000
DTSTAMP:20260420T112154
CREATED:20230222T113015Z
LAST-MODIFIED:20230222T113015Z
UID:14277-1677664800-1677679200@cermin.org
SUMMARY:JORNADA 'El empleo público: una oportunidad para las personas con discapacidad' - Fundación ONCE\, CERMI y Ministerio de Hacienda y Función Pública
DESCRIPTION:El próximo 1 de marzo a las 10 horas\, en la sede de Por Talento Digital de Fundación ONCE (calle Fray Luis de León\, 11 de Madrid)\, se celebrará la Jornada ‘El empleo público: Una oportunidad para las personas con discapacidad’\, organizada por Fundación ONCE\, CERMI y el Ministerio de Hacienda y Función Pública. \nEl acto contará con la asistencia de Dª María Jesús Montero\, Ministra de Hacienda y Función Pública. \nLa asistencia a la Jornada podrá ser de forma presencial y se podrá seguir también de forma online a través del canal de YouTube de Fundación ONCE. \nInformación de la jornada\n\nFecha: 1 de marzo\, miércoles.\nHorario: de las 10:00 a las 14:00 horas.\nLugar: calle Fray Luis de León\, 11\, Madrid. También podrá seguirse de forma online en el canal de YouTube de Fundación ONCE.\nInscripción: boletín de inscripción.\n\nCartel de la jornada en PDF.
URL:https://cermin.org/agenda/jornada-el-empleo-publico-una-oportunidad-para-las-personas-con-discapacidad-fundacion-once-cermi-y-ministerio-de-hacienda-y-funcion-publica/
LOCATION:PRESENCIAL Y ONLINE
ATTACH;FMTTYPE=image/png:https://cermin.org/wp-content/uploads/2023/02/20230301-Jornada-empleo-publico-Fundacion-ONCE-CERMI.png
END:VEVENT
BEGIN:VEVENT
DTSTART;TZID=Europe/Madrid:20230313T110000
DTEND;TZID=Europe/Madrid:20230313T123000
DTSTAMP:20260420T112154
CREATED:20230309T150916Z
LAST-MODIFIED:20230310T084120Z
UID:14404-1678705200-1678710600@cermin.org
SUMMARY:PRESENTACIÓN: "Libro en Lectura Fácil ‘Vidas de mujeres inspiradoras 4’" FUNDACIÓN ONCE y PLENA INCLUSIÓN
DESCRIPTION:El próximo lunes 13 de marzo a las 11 h. (hora peninsular)\, desde Fundación ONCE y Plena Inclusión Canarias presentarán el libro en Lectura Fácil ‘Vidas de mujeres inspiradoras 4’.\n\n  \nLa presentación se celebrará en formato online a través de la plataforma Zoom. \nPara inscribirse pinche en el siguiente Boletín de Inscripción. \nCartel de la presentación en formato PDF \nImagen del cartel de la presentación
URL:https://cermin.org/agenda/presentacion-libro-en-lectura-facil-vidas-de-mujeres-inspiradoras-4-fundacion-once-y-plena-inclusion/
LOCATION:Online
ATTACH;FMTTYPE=image/jpeg:https://cermin.org/wp-content/uploads/2023/03/Sin-titulo.jpg
END:VEVENT
BEGIN:VEVENT
DTSTART;TZID=Europe/Madrid:20230315T093000
DTEND;TZID=Europe/Madrid:20230316T143000
DTSTAMP:20260420T112154
CREATED:20230314T090942Z
LAST-MODIFIED:20230314T091648Z
UID:14432-1678872600-1678977000@cermin.org
SUMMARY:JORNADAS 'Más de un año tras la Ley 8/2021' - CERMI ESTATAL\, FUNDACIÓN ONCE\, FUNDACIÓN AEQUITAS
DESCRIPTION:El CERMI Estatal\, la Fundación ONCE\, y la Fundación Aequitas celebran este evento que podrá atenderse tanto presencialmente como de manera online.\nLa Ley 8/2021 reforma la legislación civil y procesal para el apoyo a las personas con discapacidad en el ejercicio de su capacidad jurídica.\n\n \nEl Comité Español de Representantes de Personas con Discapacidad (CERMI Estatal)\, la Fundación ONCE\, y la Fundación Aequitas\, del Consejo General del Notariado\, celebran las jornadas ‘Más de un año tras la Ley 8/2021\, por la que se reforma la legislación civil y procesal para el apoyo a las personas con discapacidad en el ejercicio de su capacidad jurídica’. \nSe trata de un evento de dos días\, organizado por las tres entidades y con la colaboración de Plena Inclusión y la Asociación Liber. El objetivo es abordar esta importante norma y las reformas pendientes en algunas comunidades autónomas\, contando con la intervención de expertos en asuntos jurídicos de la administración de justicia\, la universidad y el movimiento asociativo. \nEl evento se celebrará los días 15 y 16 de marzo\, en horario de mañana\, en el Senado\, en Madrid. Las personas interesadas en seguirlo de manera online podrán hacerlo en el canal del Senado. \nEn las jornadas participarán personas implicadas y dedicadas a la la Ley 8/2021. \nCartel del evento sobre la Ley 8/2021.\nInformación sobre el evento\n\nFechas y horarios:\n\nMiércoles\, 15 de marzo: de las 9:30 a las 14:45 horas.\nJueves\, 16 de marzo: de las 9:45 a las 14:30 horas.\n\n\nLugar:\n\nAsistencia presencial: Senado de España\, Madrid. La organización indica que la entrada del día 15 se realizará por la Plaza Marina Española\, s/n\, mientras que el día 16 se entrará por la calle Bailén.\nAsistencia online: canal del Senado: https://www.senado.es/streaming/emisiones_streaming_5.html\n\n\n\nParticipación navarra\nEl secretario general técnico del Departamento de Derechos Sociales del Gobierno de Navarra\, Ignacio Iriarte Aristu\, participará en una mesa redonda en la jornada del miércoles\, a las 13:15 horas. Esta mesa redonda abordará las reformas pendientes en las diferentes comunidades autónomas. \nAsimismo\, la presidenta de CERMIN\, Mariluz Sanz Escudero\, participará en la primera mesa redonda del jueves 16\, titulada ‘¿Qué ocurre en los diferentes territorios?’. Esta mesa tendrá lugar a las 9:45 horas y en ella intervendrán representantes de diferentes CERMIs autonómicos. \nPrograma completo\nPrograma de las jornadas ‘Más de un año tras la Ley 8/2021’ (PDF).
URL:https://cermin.org/agenda/jornadas-mas-de-un-ano-tras-la-ley-8-2021-cermi-estatal-fundacion-once-fundacion-aequitas/
LOCATION:PRESENCIAL Y ONLINE
ATTACH;FMTTYPE=image/jpeg:https://cermin.org/wp-content/uploads/2023/03/Fachada-del-Senado.jpg
END:VEVENT
END:VCALENDAR