BEGIN:VCALENDAR
VERSION:2.0
PRODID:-//Cermin - ECPv6.15.17.1//NONSGML v1.0//EN
CALSCALE:GREGORIAN
METHOD:PUBLISH
X-ORIGINAL-URL:https://cermin.org
X-WR-CALDESC:Eventos para Cermin
REFRESH-INTERVAL;VALUE=DURATION:PT1H
X-Robots-Tag:noindex
X-PUBLISHED-TTL:PT1H
BEGIN:VTIMEZONE
TZID:Europe/Madrid
BEGIN:DAYLIGHT
TZOFFSETFROM:+0100
TZOFFSETTO:+0200
TZNAME:CEST
DTSTART:20210328T010000
END:DAYLIGHT
BEGIN:STANDARD
TZOFFSETFROM:+0200
TZOFFSETTO:+0100
TZNAME:CET
DTSTART:20211031T010000
END:STANDARD
BEGIN:DAYLIGHT
TZOFFSETFROM:+0100
TZOFFSETTO:+0200
TZNAME:CEST
DTSTART:20220327T010000
END:DAYLIGHT
BEGIN:STANDARD
TZOFFSETFROM:+0200
TZOFFSETTO:+0100
TZNAME:CET
DTSTART:20221030T010000
END:STANDARD
BEGIN:DAYLIGHT
TZOFFSETFROM:+0100
TZOFFSETTO:+0200
TZNAME:CEST
DTSTART:20230326T010000
END:DAYLIGHT
BEGIN:STANDARD
TZOFFSETFROM:+0200
TZOFFSETTO:+0100
TZNAME:CET
DTSTART:20231029T010000
END:STANDARD
END:VTIMEZONE
BEGIN:VEVENT
DTSTART;TZID=Europe/Madrid:20220928T180000
DTEND;TZID=Europe/Madrid:20220928T180000
DTSTAMP:20260422T153428
CREATED:20220928T100746Z
LAST-MODIFIED:20220928T100746Z
UID:13429-1664388000-1664388000@cermin.org
SUMMARY:IX Encuentro del Observatorio sobre Feminismo y Discapacidad: Estereotipos de Género - CERMI MUJERES
DESCRIPTION:La Fundación CERMI Mujeres (FCM) celebrará este miércoles 28 de septiembre\, a las 18 horas\, el IX Encuentro del Observatorio sobre Feminismo y Discapacidad\, que contará con la participación de Marisa Soleto Ávila\, directora de la Fundación Mujeres\, organización no gubernamental sin ánimo de lucro que trabaja en proyectos dirigidos al desarrollo de la igualdad real y efectiva entre mujeres y hombres. \nSoleto\, cuya trayectoria profesional ha estado siempre ligada al trabajo en el desarrollo de políticas de igualdad y de los derechos de las mujeres\, impartirá así una conferencia magistral centrada en la perpetuación de los estereotipos de género. Podrá seguirse de forma virtual y accesible a partir de las 18:00 horas en el canal YouTube de la FCM. \nTras la conferencia magistral a cargo de Soleto\, se dará paso a un coloquio con el Comité de Personas Expertas del Observatorio sobre Feminismo y Discapacidad en el que intervendrán las activistas por los derechos de las mujeres y niñas con discapacidad\, Carmen Arana Romero y Cristina Paredero Morato\, así como la coach para mujeres y grupos de exclusión social\, Noelia López Aso. \nEl Observatorio sobre Feminismo y Discapacidad es una iniciativa de la FCM impulsada con el objetivo de analizar las principales cuestiones que nutren el debate feminista contemporáneo\, estableciendo conexiones con el mundo de la discapacidad en un contexto estatal\, internacional\, comunitario europeo y comparado. \nAcceso al encuentro en este enlace.
URL:https://cermin.org/agenda/ix-encuentro-del-observatorio-sobre-feminismo-y-discapacidad-estereotipos-de-genero-cermi-mujeres/
LOCATION:Online
ATTACH;FMTTYPE=image/png:https://cermin.org/wp-content/uploads/2022/09/20220928-IX-Observatorio-Feminismo-y-Discapacidad.png
END:VEVENT
END:VCALENDAR