BEGIN:VCALENDAR
VERSION:2.0
PRODID:-//Cermin - ECPv6.15.17.1//NONSGML v1.0//EN
CALSCALE:GREGORIAN
METHOD:PUBLISH
X-ORIGINAL-URL:https://cermin.org
X-WR-CALDESC:Eventos para Cermin
REFRESH-INTERVAL;VALUE=DURATION:PT1H
X-Robots-Tag:noindex
X-PUBLISHED-TTL:PT1H
BEGIN:VTIMEZONE
TZID:Europe/Madrid
BEGIN:DAYLIGHT
TZOFFSETFROM:+0100
TZOFFSETTO:+0200
TZNAME:CEST
DTSTART:20210328T010000
END:DAYLIGHT
BEGIN:STANDARD
TZOFFSETFROM:+0200
TZOFFSETTO:+0100
TZNAME:CET
DTSTART:20211031T010000
END:STANDARD
BEGIN:DAYLIGHT
TZOFFSETFROM:+0100
TZOFFSETTO:+0200
TZNAME:CEST
DTSTART:20220327T010000
END:DAYLIGHT
BEGIN:STANDARD
TZOFFSETFROM:+0200
TZOFFSETTO:+0100
TZNAME:CET
DTSTART:20221030T010000
END:STANDARD
BEGIN:DAYLIGHT
TZOFFSETFROM:+0100
TZOFFSETTO:+0200
TZNAME:CEST
DTSTART:20230326T010000
END:DAYLIGHT
BEGIN:STANDARD
TZOFFSETFROM:+0200
TZOFFSETTO:+0100
TZNAME:CET
DTSTART:20231029T010000
END:STANDARD
END:VTIMEZONE
BEGIN:VEVENT
DTSTART;TZID=Europe/Madrid:20221212T090000
DTEND;TZID=Europe/Madrid:20221212T140000
DTSTAMP:20260420T132253
CREATED:20221130T092115Z
LAST-MODIFIED:20221207T110837Z
UID:13879-1670835600-1670853600@cermin.org
SUMMARY:JORNADA 'Atención Centrada en la persona (ACP) y trabajos de la comisión de apoyo a la red ACP' - GOBIERNO DE NAVARRA
DESCRIPTION:El lunes 12 de diciembre\, el Departamento de Derechos Sociales organiza la Jornada ‘Atención Centrada en la persona (ACP) y trabajos de la comisión de apoyo a la red ACP’\, en el Auditorio de CIVICAN (Avenida Pio XII\, 2 Pamplona-Iruña)\, de 9.00 a 14.00 horas. \nLas personas interesadas en asistir a la jornada podrán hacerlo: \n\nde manera presencial\, debiendo rellenar el formulario de inscripción (para acceder al mismo\, pinchar en FORMULARIO). Las plazas se asignarán por orden riguroso de inscripción. Las personas que consigan plaza presencial recibirán correo confirmatorio.\nde manera “on line”\, a través de la página web del Observatorio de la Realidad Social (pinchar en JORNADA ON LINE).\n\nLa jornada también se retransmitirá en directo aquí. \nCartel y programa de la jornada en castellano \nCartel y programa de la jornada en euskera
URL:https://cermin.org/agenda/jornada-atencion-centrada-en-la-persona-acp-y-trabajos-de-la-comision-de-apoyo-a-la-red-acp-gobierno-de-navarra/
LOCATION:AUDITORIO CIVICAN\, AVDA\, PIO XII Nº 2\, Pamplona/Iruña\, NAVARRA
ATTACH;FMTTYPE=image/jpeg:https://cermin.org/wp-content/uploads/2022/11/Cartel-y-programa-jornada-ACP-castellano.jpg
END:VEVENT
BEGIN:VEVENT
DTSTART;TZID=Europe/Madrid:20221220T103000
DTEND;TZID=Europe/Madrid:20221220T130000
DTSTAMP:20260420T132253
CREATED:20221214T073442Z
LAST-MODIFIED:20221219T081636Z
UID:13974-1671532200-1671541200@cermin.org
SUMMARY:PREMIOS: "III Edición Premios Innovación Social 2022" GOBIERNO DE NAVARRA
DESCRIPTION:Los Premios a la Innovación Social en los Servicios Sociales de la Comunidad Foral de Navarra\, nacen con el fin de premiar a las entidades que prestan Servicios Sociales en Navarra\, que hayan abordado algún o algunos retos sociales con nuevos servicios\, productos o modelos desarrollados en procesos participativos de innovación y transformación social.\n\n  \nSi deseas asistir de forma presencial no olvides confirmar tu asistencia. Enlace de inscripción presencial. \n\nPlazas limitadas según orden de inscripción hasta completar aforo. Fecha límite para inscribirse: 18/12 –  00:00h\nLa reserva de plaza a los asistentes PRESENCIALES será confirmada vía mail el lunes 19/12\n\nSi prefieres seguir el acto online\, podrás hacerlo accediendo al siguiente enlace. \nPrograma de los premios en formato PDF \nImagen del cartel de los premios
URL:https://cermin.org/agenda/premios-iii-edicion-premios-innovacion-social-2022-gobierno-de-navarra/
LOCATION:EL VIVERO DE IDEAS\, C/ DE LOS TEOBALDOS 10 BAJO\, PAMPLONA\, NAVARRA\, 31002
ATTACH;FMTTYPE=image/jpeg:https://cermin.org/wp-content/uploads/2022/12/800_x_800_premios_innovaci_n_social.jpg
END:VEVENT
END:VCALENDAR