BEGIN:VCALENDAR
VERSION:2.0
PRODID:-//Cermin - ECPv6.15.17.1//NONSGML v1.0//EN
CALSCALE:GREGORIAN
METHOD:PUBLISH
X-ORIGINAL-URL:https://cermin.org
X-WR-CALDESC:Eventos para Cermin
REFRESH-INTERVAL;VALUE=DURATION:PT1H
X-Robots-Tag:noindex
X-PUBLISHED-TTL:PT1H
BEGIN:VTIMEZONE
TZID:Europe/Madrid
BEGIN:DAYLIGHT
TZOFFSETFROM:+0100
TZOFFSETTO:+0200
TZNAME:CEST
DTSTART:20220327T010000
END:DAYLIGHT
BEGIN:STANDARD
TZOFFSETFROM:+0200
TZOFFSETTO:+0100
TZNAME:CET
DTSTART:20221030T010000
END:STANDARD
BEGIN:DAYLIGHT
TZOFFSETFROM:+0100
TZOFFSETTO:+0200
TZNAME:CEST
DTSTART:20230326T010000
END:DAYLIGHT
BEGIN:STANDARD
TZOFFSETFROM:+0200
TZOFFSETTO:+0100
TZNAME:CET
DTSTART:20231029T010000
END:STANDARD
BEGIN:DAYLIGHT
TZOFFSETFROM:+0100
TZOFFSETTO:+0200
TZNAME:CEST
DTSTART:20240331T010000
END:DAYLIGHT
BEGIN:STANDARD
TZOFFSETFROM:+0200
TZOFFSETTO:+0100
TZNAME:CET
DTSTART:20241027T010000
END:STANDARD
END:VTIMEZONE
BEGIN:VEVENT
DTSTART;TZID=Europe/Madrid:20230520T100000
DTEND;TZID=Europe/Madrid:20230520T100000
DTSTAMP:20260420T002754
CREATED:20230511T091839Z
LAST-MODIFIED:20230511T100156Z
UID:14693-1684576800-1684576800@cermin.org
SUMMARY:ACTIVIDADES ACCESIBLES: Golf adaptado para personas con discapacidad visual - INSTITUTO NAVARRO DEL DEPORTE
DESCRIPTION:El Instituto Navarro de Deporte organiza una jornada de golf adaptado para personas con discapacidad visual. Será el 20 de mayo en Lizaso.\nComo parte de la actividad\, habrá una visita guiada por el bosque de Orgi.\nCon colaboración de ONCE\, Club Deportivo para Ciegos de Navarra y Asociación Retina Navarra.\n\n \nComo en años anteriores\, el Instituto Navarro de Deporte desarrolla varias actividades dentro del programa de actividades accesibles. Dentro de este programa\, celebrarán una jornada de golf adaptado para personas con discapacidad visual\, el próximo 20 de mayo a las 10 horas. La actividad cuenta con la colaboración de ONCE\, Club Deportivo para Ciegos de Navarra y Asociación Retina Navarra. \nSe trata de una jornada de golf en Lizaso\, donde\, gracias a monitores especializados\, se puede adaptar el juego a personas con discapacidad visual. \nGolf para personas con discapacidad visual\nEl golf para personas con discapacidad visual es un deporte que pocos conocen y\, sin embargo\, es perfecto para personas con escasa capacidad visual. \nLa ventaja del golf para personas con discapacidad visual sobre otros deportes adaptados es que los movimientos del jugador no son interferidos por otros participantes. Además\, es un deporte que se juega casi parado\, pues para hacer el “swing” o lograr un “putt” solamente es necesario mover la parte de arriba del torso y girar las piernas. \nPor otra parte\, el golf normalmente se practica en el mismo campo una y otra vez\, por lo que la persona puede familiarizarse con las distancias para ser cada vez mejor. \nPrograma de la actividad\nLa actividad se realizará en dos tandas: mientras un turno disfruta del golf\, el otro realizará una visita guiada por el bosque de Orgi\, uno de los tantos tesoros naturales de Navarra. \nA continuación se adjunta el programa: \n09:00 horas: salida en autobús desde Pamplona (pendiente de ubicación).\n09:45 horas: llegada a Lizaso.\n10:00 horas: preparación de los turnos de participación (una tanda juega a golf y la otra visita el bosque de Orgi).\n14:00 horas: fin de las actividades.\n14:15 horas: salida hacia Pamplona.\n15:00 horas: llegada a Pamplona y fin de la excursión. \nHay que realizar la inscripción en una de las delegaciones de los colaboradores: ONCE\, Club Deportivo para Ciegos de Navarra o Asociación Retina Navarra. \nOtras actividades deportivas accesibles\nEl Instituto Navarro de Deporte también organiza\, el próximo 29 de julio\, un recorrido en balsas neumáticas por el río Irati.
URL:https://cermin.org/agenda/actividades-accesibles-golf-adaptado-para-personas-con-discapacidad-visual-instituto-navarro-del-deporte/
LOCATION:Lizaso\, Navarra\, España
ATTACH;FMTTYPE=image/png:https://cermin.org/wp-content/uploads/2023/05/20230520-Golf-adaptado-personas-discapacidad-visual.png
END:VEVENT
BEGIN:VEVENT
DTSTART;VALUE=DATE:20230529
DTEND;VALUE=DATE:20230530
DTSTAMP:20260420T002754
CREATED:20230522T083015Z
LAST-MODIFIED:20230522T083015Z
UID:14777-1685318400-1685404799@cermin.org
SUMMARY:Premios de Reconocimiento al Trabajo Autónomo de Navarra 2023 - GOBIERNO DE NAVARRA
DESCRIPTION:El plazo de presentación de candidaturas está abierto hasta el lunes 29 de mayo.\nHay 17 premios en total\, uno de ellos\, a la mejor experiencia profesional de persona con discapacidad.\n\n \nEl Departamento de Desarrollo Económico y Empresarial\, a través de la Dirección General de Política de Empresa\, Proyección Internacional y Trabajo\, convoca la quinta edición de los Premios de Reconocimiento al Trabajo Autónomo de Navarra. Estos premios reconocen el valor del trabajo\, el esfuerzo y la creatividad de este colectivo en Navarra\, a través de 16 modalidades y una mención especial. Uno de los premios está dirigido a la mejor experiencia profesional de persona con discapacidad. \nLos premios están dirigidos a personas trabajadoras autónomas que cumplan los siguientes requisitos: \n\nEstar o haber estado dadas de alta durante los dos últimos años en el Régimen Especial de Trabajadores Autónomos de la Seguridad Social o la Mutualidad del Colegio Profesional correspondiente.\nEjercer o haber ejercido su actividad en Navarra\, al menos\, en los dos últimos años.\n\nLas candidaturas a los premios se pueden presentar hasta el próximo 29 de mayo. La documentación requerida para ello puede consultarse en el trámite de presentación de candidaturas del Registro General Electrónico (enlace en el siguiente párrafo). Las personas interesadas pueden enviar la documentación mediante una de estas tres vías: \n\nPor vía telemática a través del Registro General Electrónico\, en el trámite de presentación de candidaturas: https://www.navarra.es/es/tramites/on/-/line/premios-de-reconocimiento-al-trabajo-autonomo?back=true&pageBackId=5722676\nDe forma presencial en cualquier Registro del Gobierno de Navarra.\nPor email a trabajoautonomo@navarra.es\n\nLos premios consistirán en un diploma y un galardón\, que entregará el consejero de Desarrollo Económico y Empresarial en acto público organizado a tal fin en fecha 30 de septiembre de 2023. \nCategorías\nSe concederán un total de 16 premios para cada una de las siguientes modalidades\, más una mención especial o reconocimiento: \n\nMejor experiencia empresarial masculina.\nMejor experiencia empresarial femenina.\nMejor experiencia empresarial joven.\nMejor experiencia empresarial de persona con discapacidad.\nMejor experiencia empresarial innovadora.\nMejor profesional perteneciente a alguno de los siguientes gremios: agricultura\, ganadería y sector agroalimentario.\nMejor profesional perteneciente a alguno de los siguientes gremios: fontanería\, electricidad\, calefacción\, climatización\, gas y prevención de incendios e ingenierías.\nMejor profesional perteneciente a alguno de los siguientes gremios: construcción\, carpintería\, ebanistería\, pintura\, albañilería\, cristalería\, arquitectura\, diseño de interiores y paisajismo.\nMejor profesional perteneciente a alguno de los siguientes gremios: comercio\, confección textil y de calzado.\nMejor profesional perteneciente a alguno de los siguientes gremios: reparación de vehículos de motor y motocicletas\, talleres del sector del metal.\nMejor profesional perteneciente a alguno de los siguientes gremios: transporte y almacenamiento.\nMejor profesional perteneciente a alguno de los siguientes gremios: hostelería\, pastelerías\, panaderías y obradores.\nMejor profesional perteneciente a alguno de los siguientes gremios: información\, comunicación\, marketing y publicidad\, informática\, robótica\, actividades administrativas\, asesorías\, abogados\, graduados sociales y servicios auxiliares.\nMejor profesional perteneciente a alguno de los siguientes gremios: educación y formación.\nMejor profesional perteneciente a alguno de los siguientes gremios: actividades relacionadas con la salud (física y mental)\, la belleza y cuidados\, farmacia y todo lo relacionado con el mundo animal.\nMejor profesional perteneciente a alguno de los siguientes gremios: actividades artísticas\, recreativas y de entretenimiento y servicios socioculturales.\nReconocimiento o mención especial en base a su trayectoria profesional y la repercusión o relevancia de la misma en su entorno y en la sociedad navarra.\n\nVotaciones\nUna vez finalizado el período de envío de solicitudes\, se abrirá plazo para la emisión de votos desde el 5 de junio hasta el 25 de junio de 2023\, ambos inclusive\, desde la siguiente página web: https://navarraemprende.com/elfuturoaturitmo \nResultará ganadora la candidatura más votada en cada modalidad. Se podrá obtener hasta un máximo de 26 puntos\, repartidos del siguiente modo: \n\nHasta 13 puntos\, que otorgarán las personas que integran el Consejo Navarro del Trabajo Autónomo.\nHasta 13 puntos\, que se otorgarán de forma proporcional en base al número de votos emitidos por la ciudadanía.
URL:https://cermin.org/agenda/premios-de-reconocimiento-al-trabajo-autonomo-de-navarra-2023-gobierno-de-navarra/
LOCATION:Online
ATTACH;FMTTYPE=image/jpeg:https://cermin.org/wp-content/uploads/2021/06/discapacidad-y-empleo-4-scaled.jpg
END:VEVENT
END:VCALENDAR