BEGIN:VCALENDAR
VERSION:2.0
PRODID:-//Cermin - ECPv6.15.17.1//NONSGML v1.0//EN
CALSCALE:GREGORIAN
METHOD:PUBLISH
X-ORIGINAL-URL:https://cermin.org
X-WR-CALDESC:Eventos para Cermin
REFRESH-INTERVAL;VALUE=DURATION:PT1H
X-Robots-Tag:noindex
X-PUBLISHED-TTL:PT1H
BEGIN:VTIMEZONE
TZID:Europe/Madrid
BEGIN:DAYLIGHT
TZOFFSETFROM:+0100
TZOFFSETTO:+0200
TZNAME:CEST
DTSTART:20210328T010000
END:DAYLIGHT
BEGIN:STANDARD
TZOFFSETFROM:+0200
TZOFFSETTO:+0100
TZNAME:CET
DTSTART:20211031T010000
END:STANDARD
BEGIN:DAYLIGHT
TZOFFSETFROM:+0100
TZOFFSETTO:+0200
TZNAME:CEST
DTSTART:20220327T010000
END:DAYLIGHT
BEGIN:STANDARD
TZOFFSETFROM:+0200
TZOFFSETTO:+0100
TZNAME:CET
DTSTART:20221030T010000
END:STANDARD
BEGIN:DAYLIGHT
TZOFFSETFROM:+0100
TZOFFSETTO:+0200
TZNAME:CEST
DTSTART:20230326T010000
END:DAYLIGHT
BEGIN:STANDARD
TZOFFSETFROM:+0200
TZOFFSETTO:+0100
TZNAME:CET
DTSTART:20231029T010000
END:STANDARD
END:VTIMEZONE
BEGIN:VEVENT
DTSTART;TZID=Europe/Madrid:20221011T113000
DTEND;TZID=Europe/Madrid:20221011T133000
DTSTAMP:20260422T141350
CREATED:20221005T061229Z
LAST-MODIFIED:20221005T073054Z
UID:13468-1665487800-1665495000@cermin.org
SUMMARY:JORNADA PRESENTACIÓN: "De la Guía para la evaluación de la innovación social y de la herramienta HELIX" GOBIERNO DE NAVARRA-OBSERVATORIO DE LA REALIDAD SOCIAL
DESCRIPTION:El Observatorio de la Realidad Social del Gobierno de Navarra organiza la Jornada de presentación de la Guía para la evaluación de la innovación social y de la herramienta HELIX.\n\n  \nEste acto tendrá lugar el día 11 de octubre \, a las 11.30 horas\, en La Fábrica de Gomas\,  C/Fuente de la Teja 12. Soto de Lezkairu\, Pamplona. \nPara participar en el evento es necesario que realice su inscripción en este enlace.  \nEl aforo es limitado por lo que lo que se le confirmará si tiene plaza asignada una vez finalizado el plazo de inscripción. \nEn caso de que no pueda participar de forma presencial\,  podrá seguir la jornada por streaming a través del siguiente enlace: https://youtu.be/jS5sOnwhjEA \nEnlace al cartel de la jornada en formato PDF \nImagen del cartel de la jornada
URL:https://cermin.org/agenda/jornada-presentacion-de-la-guia-para-la-evaluacion-de-la-innovacion-social-y-de-la-herramienta-helix-gobierno-de-navarra-observatorio-de-la-realidad-social/
LOCATION:LA FÁBRICA DE GOMAS\, C/ FUENTE DE LA TEJA Nº 12\, PAMPLONA\, NAVARRA
ATTACH;FMTTYPE=image/jpeg:https://cermin.org/wp-content/uploads/2022/10/Sin-titulo.jpg
END:VEVENT
END:VCALENDAR