BEGIN:VCALENDAR
VERSION:2.0
PRODID:-//Cermin - ECPv6.15.17.1//NONSGML v1.0//EN
CALSCALE:GREGORIAN
METHOD:PUBLISH
X-WR-CALNAME:Cermin
X-ORIGINAL-URL:https://cermin.org
X-WR-CALDESC:Eventos para Cermin
REFRESH-INTERVAL;VALUE=DURATION:PT1H
X-Robots-Tag:noindex
X-PUBLISHED-TTL:PT1H
BEGIN:VTIMEZONE
TZID:Europe/Madrid
BEGIN:DAYLIGHT
TZOFFSETFROM:+0100
TZOFFSETTO:+0200
TZNAME:CEST
DTSTART:20220327T010000
END:DAYLIGHT
BEGIN:STANDARD
TZOFFSETFROM:+0200
TZOFFSETTO:+0100
TZNAME:CET
DTSTART:20221030T010000
END:STANDARD
BEGIN:DAYLIGHT
TZOFFSETFROM:+0100
TZOFFSETTO:+0200
TZNAME:CEST
DTSTART:20230326T010000
END:DAYLIGHT
BEGIN:STANDARD
TZOFFSETFROM:+0200
TZOFFSETTO:+0100
TZNAME:CET
DTSTART:20231029T010000
END:STANDARD
BEGIN:DAYLIGHT
TZOFFSETFROM:+0100
TZOFFSETTO:+0200
TZNAME:CEST
DTSTART:20240331T010000
END:DAYLIGHT
BEGIN:STANDARD
TZOFFSETFROM:+0200
TZOFFSETTO:+0100
TZNAME:CET
DTSTART:20241027T010000
END:STANDARD
END:VTIMEZONE
BEGIN:VEVENT
DTSTART;TZID=Europe/Madrid:20230117T090000
DTEND;TZID=Europe/Madrid:20230117T140000
DTSTAMP:20260421T180326
CREATED:20230103T113800Z
LAST-MODIFIED:20230116T103110Z
UID:14076-1673946000-1673964000@cermin.org
SUMMARY:JORNADA 'Hacia un nuevo modelo de mayor coordinación sanitaria y social por las personas mas vulnerables' - Grupo Social ONCE-Ilunion
DESCRIPTION:El Grupo Social ONCE e ILUNION celebrarán la jornada ‘Hacia un nuevo modelo de mayor coordinación sanitaria y social por las personas mas vulnerables’ en Pamplona. Será el martes 17 de enero\, de 9 a 14 horas en la Confederación Empresarial Navarra (CEN). Podrá seguirse en directo en el canal de YouTube de CERMIN. \nInformación de la jornada\nNuestra sociedad y nuestro tiempo nos requieren. En especial\, aquellos hombres y mujeres que contribuyeron a construir sociedades mejores en su momento y que hoy necesitan sentirse cuidados y acompañados: las personas mayores. Y como ellos\, las personas con discapacidad\, las personas con enfermedades crónicas\, las personas que viven en soledad no deseada\, las personas con problemas con problemas de salud mental\, las personas con cualquier grado de dependencia… personas. \nEs en ese lugar\, la concepción de la dignidad de las personas\, donde debemos construir modelos integrales y humanistas de cuidado de la salud y del apoyo social que merecen. Porque no debemos olvidar que todos nosotros\, hombres y mujeres\, en algún momento requeriremos de la excelencia de un sistema sanitario y social coordinado para seguir sintiéndonos útiles en sociedad. \nTodos los anhelos\, las crisis y los retos que encaramos como sociedad deben ser enfrentados desde el acuerdo y el pacto entre distintos. El reto demográfico de España y el cuidado integral social y sanitario adquiere una extraordinaria relevancia. Esa es la misión de esta serie de jornadas donde familias\, personas vulnerables\, profesionales de la salud y de lo social\, Administraciones Públicas y empresas compartirán propósito para crear entre todos los nuevos modelos de cuidados integrales que se requiere. \nAdemás\, se incluirán temáticas de vanguardia como la ética en la toma de decisiones sociosanitarias\, la aplicación humanista de las nuevas tecnologías al servicio de las personas\, la desinstitucionalización social\, los cuidados avanzados en el hogar y la coordinación definitiva de los ámbitos de la salud y del apoyo social. \n \nPrograma de la jornada\no9:0o h. Acreditaciones. \n09:30 h. Presentación Institucional.\n– Apertura: Dña. María Chivite\, Presidenta del Gobierno de Navarra\,\n– D. José Ángel Andrés Gutiérrez\, Presidente de Fundación Caja Navarra.\n– D. Eusebio Azorín. Director del Área Sanitaria SocioSanitaria y Director de Relaciones Institucionales del Grupo ILUNION.\n– D. Fernando Riaño. Director de Relaciones Institucionales RSC del Grupo Social ONCE. \n09:45 h. MESA DE DEBATE. Hacia un Nuevo Modelo de Apoyos Sociosanitarios: la Ética y la Humanización de los cuidados\n– Dña. Cinta Pascual\, Presidenta de CEAPS.\n– D. Jesús Cubero\, gerente de AESTE.\n– D. Cristóbal Cuevas. Director del Área SocioSanitaria del Grupo ILUNION.\nModera: D. Javier Lorente\, de Cadena SER. \n10:30 h. Coordinación de los poderes Municipal\, Autonómico y Central en los apoyos y el cuidado a la Dependencia y la voz del voluntariado.\n– Dña. María Caballero\, Teniente Alcalde y concejal de Asuntos Sociales del Ayuntamiento de Pamplona.\n– D. Josep Marti. Director de Infodependencia y experto en modelos de éxito internacional.\n– D. Loren Dionis\, presidente del patronato de la Fundación Profesionales Solidarios del Voluntariado.\nModera: D. Alberto Guzmán\, periodista de Navarra Capital. \n11.00 h. Coffee networking.\n1 1:30 h. MESA DE DEBATE La Innovación Social\, las Nuevas Tecnologías en los Apoyos a la Dependencia.\n– D. Esteban Morras\, Director de Veridas\, empresa tecnológica pionera en la biometría y modelados de monitorización de constantes vitales y apoyos sociales.\n– D. Luis Campos\, Director General de Telecomunicaciones y de Digitalización del Gobierno de Navarra.\nModera: Dña. Maite Pérez\, periodista de Diario de Noticias. \n12:15h. MESA DE DEBATE La voz de las personas mayores y personas en el entorno rural.\n– Dña. Carmen Quintanilla\, presidenta nacional de AFAMMER (Asociación de Familias y Mayores en el mundo rural).\n– Dña. Carina Escobar\, presidenta de la Plataforma de Organizaciones de Pacientes.\n– Dña. Mariluz Sanz\, presidenta de CERMIN.\nModera: D. Ignacio Murillo\, periodista de Navarra.com. \n12:00 h. MESA DE DEBATE. El Reto de coordinación Socio-Sanitario para las personas más vulnerables.\n– D. Carlos Artundo\, Director General de Salud del Gobierno de Navarra.\n– Dña. Inés Francés\, Directora Gerente de la Agencia Navarra de Autonomía y Desarrollo de las Personas.\nModera: D. José Soto\, presidente de SEDISA. \n12:45 h. Interludio por la Salud.\n14:00 h. Debate de conclusiones y Cierre Institucional de la Jornada.\n– Dña. María Carmen Maeztu\, Consejera de Derechos Sociales del Gobierno de Navarra.\n– Dña. Santos Induráin\, Consejera de Salud del Gobierno de Navarra. \n– D. Enrique Maya\, Alcalde de Pamplona.\nModera: D. Íñigo Alli\, patrono Fundación Bequal. \nDescargar el programa en PDF. \nPrograma de la jornada.\nEnlace de inscripción\nEnlace para inscribirse y asistir a la jornada: https://www.ilunioncomunicacionsocial.com/hacia-un-nuevo-modelo-de-mayor-coordinacion-sanitaria-por-las-personas-mas-vulnerables-pamplona-17 
URL:https://cermin.org/agenda/jornada-hacia-un-nuevo-modelo-de-mayor-coordinacion-sanitaria-y-social-por-las-personas-mas-vulnerables-grupo-social-once-ilunion/
LOCATION:Confederación Empresarial Navarra (CEN)\, C/ Del Dr. Huarte de San Juan\, nº 3\, Pamplona/Iruña\, NAVARRA
ATTACH;FMTTYPE=image/jpeg:https://cermin.org/wp-content/uploads/2023/01/20230117-Jornada-coordinacion-sanitaria-social-cartel.jpg
ORGANIZER;CN="Grupo Social ONCE":MAILTO:https://www.once.es/conocenos/grupo-social-once
END:VEVENT
END:VCALENDAR