BEGIN:VCALENDAR
VERSION:2.0
PRODID:-//Cermin - ECPv6.15.17.1//NONSGML v1.0//EN
CALSCALE:GREGORIAN
METHOD:PUBLISH
X-ORIGINAL-URL:https://cermin.org
X-WR-CALDESC:Eventos para Cermin
REFRESH-INTERVAL;VALUE=DURATION:PT1H
X-Robots-Tag:noindex
X-PUBLISHED-TTL:PT1H
BEGIN:VTIMEZONE
TZID:Europe/Madrid
BEGIN:DAYLIGHT
TZOFFSETFROM:+0100
TZOFFSETTO:+0200
TZNAME:CEST
DTSTART:20210328T010000
END:DAYLIGHT
BEGIN:STANDARD
TZOFFSETFROM:+0200
TZOFFSETTO:+0100
TZNAME:CET
DTSTART:20211031T010000
END:STANDARD
BEGIN:DAYLIGHT
TZOFFSETFROM:+0100
TZOFFSETTO:+0200
TZNAME:CEST
DTSTART:20220327T010000
END:DAYLIGHT
BEGIN:STANDARD
TZOFFSETFROM:+0200
TZOFFSETTO:+0100
TZNAME:CET
DTSTART:20221030T010000
END:STANDARD
BEGIN:DAYLIGHT
TZOFFSETFROM:+0100
TZOFFSETTO:+0200
TZNAME:CEST
DTSTART:20230326T010000
END:DAYLIGHT
BEGIN:STANDARD
TZOFFSETFROM:+0200
TZOFFSETTO:+0100
TZNAME:CET
DTSTART:20231029T010000
END:STANDARD
END:VTIMEZONE
BEGIN:VEVENT
DTSTART;TZID=Europe/Madrid:20221115T090000
DTEND;TZID=Europe/Madrid:20221115T134500
DTSTAMP:20260423T112016
CREATED:20221025T063922Z
LAST-MODIFIED:20221025T094738Z
UID:13604-1668502800-1668519900@cermin.org
SUMMARY:JORNADA: "Acompañando a nuestra infancia" GOBIERNO DE NAVARRA
DESCRIPTION:Con motivo del día Mundial de la Infancia\, el Departamento de Derechos Sociales organiza la Jornada “Acompañando a nuestra infancia”.\n\n  \nSe celebrará el martes 15 de noviembre en el salón de actos de Civican (Av. Pío XII\, 2. Pamplona) \nPodrá seguirse de manera presencial. Enlace de acceso a la inscripción. \nTambién podrá verse a través de streaming (link para verlo on line). \nPrograma de la jornada en castellano. Formato PDF\nPrograma de la jornada en euskera. Formato PDF. \nImagen del cartel de la jornada
URL:https://cermin.org/agenda/jornada-acompanando-a-nuestra-infancia-gobierno-de-navarra/
LOCATION:AUDITORIO CIVICAN\, AVDA\, PIO XII Nº 2\, Pamplona/Iruña\, NAVARRA
ATTACH;FMTTYPE=image/jpeg:https://cermin.org/wp-content/uploads/2022/10/Sin-titulo-1.jpg
END:VEVENT
END:VCALENDAR