BEGIN:VCALENDAR
VERSION:2.0
PRODID:-//Cermin - ECPv6.15.17.1//NONSGML v1.0//EN
CALSCALE:GREGORIAN
METHOD:PUBLISH
X-WR-CALNAME:Cermin
X-ORIGINAL-URL:https://cermin.org
X-WR-CALDESC:Eventos para Cermin
REFRESH-INTERVAL;VALUE=DURATION:PT1H
X-Robots-Tag:noindex
X-PUBLISHED-TTL:PT1H
BEGIN:VTIMEZONE
TZID:Europe/Madrid
BEGIN:DAYLIGHT
TZOFFSETFROM:+0100
TZOFFSETTO:+0200
TZNAME:CEST
DTSTART:20210328T010000
END:DAYLIGHT
BEGIN:STANDARD
TZOFFSETFROM:+0200
TZOFFSETTO:+0100
TZNAME:CET
DTSTART:20211031T010000
END:STANDARD
BEGIN:DAYLIGHT
TZOFFSETFROM:+0100
TZOFFSETTO:+0200
TZNAME:CEST
DTSTART:20220327T010000
END:DAYLIGHT
BEGIN:STANDARD
TZOFFSETFROM:+0200
TZOFFSETTO:+0100
TZNAME:CET
DTSTART:20221030T010000
END:STANDARD
BEGIN:DAYLIGHT
TZOFFSETFROM:+0100
TZOFFSETTO:+0200
TZNAME:CEST
DTSTART:20230326T010000
END:DAYLIGHT
BEGIN:STANDARD
TZOFFSETFROM:+0200
TZOFFSETTO:+0100
TZNAME:CET
DTSTART:20231029T010000
END:STANDARD
END:VTIMEZONE
BEGIN:VEVENT
DTSTART;TZID=Europe/Madrid:20221211T110000
DTEND;TZID=Europe/Madrid:20221211T140000
DTSTAMP:20260422T043952
CREATED:20221209T120038Z
LAST-MODIFIED:20221209T120038Z
UID:13958-1670756400-1670767200@cermin.org
SUMMARY:V MARCHA A FAVOR DE LA INCLUSIÓN. 'Derecho a una vida independiente'. - ACODIFNA
DESCRIPTION:Desde ACODIFNA organizan la ‘V Marcha a favor de la inclusión: Derecho a una vida independiente’. \nSerá el domingo\, 11 de diciembre\, en el Casco Viejo de Pamplona. La marcha comenzará a las 12 horas\, pero el stand para apuntarse abrirá a las 11 horas en la Plaza del Castillo. \nA las 13.30 horas se leerá el Manifiesto. \n 
URL:https://cermin.org/agenda/v-marcha-a-favor-de-la-inclusion-derecho-a-una-vida-independiente-acodifna/
LOCATION:Plaza del Castillo\, Pamplona\, Plaza del Castillo\, Pamplona\, Navarra\, 31000\, España
ATTACH;FMTTYPE=image/jpeg:https://cermin.org/wp-content/uploads/2022/12/CARTEL-V-MARCHA-ACODIFNA.jpg
END:VEVENT
END:VCALENDAR