BEGIN:VCALENDAR
VERSION:2.0
PRODID:-//Cermin - ECPv6.15.17.1//NONSGML v1.0//EN
CALSCALE:GREGORIAN
METHOD:PUBLISH
X-WR-CALNAME:Cermin
X-ORIGINAL-URL:https://cermin.org
X-WR-CALDESC:Eventos para Cermin
REFRESH-INTERVAL;VALUE=DURATION:PT1H
X-Robots-Tag:noindex
X-PUBLISHED-TTL:PT1H
BEGIN:VTIMEZONE
TZID:Europe/Madrid
BEGIN:DAYLIGHT
TZOFFSETFROM:+0100
TZOFFSETTO:+0200
TZNAME:CEST
DTSTART:20210328T010000
END:DAYLIGHT
BEGIN:STANDARD
TZOFFSETFROM:+0200
TZOFFSETTO:+0100
TZNAME:CET
DTSTART:20211031T010000
END:STANDARD
BEGIN:DAYLIGHT
TZOFFSETFROM:+0100
TZOFFSETTO:+0200
TZNAME:CEST
DTSTART:20220327T010000
END:DAYLIGHT
BEGIN:STANDARD
TZOFFSETFROM:+0200
TZOFFSETTO:+0100
TZNAME:CET
DTSTART:20221030T010000
END:STANDARD
BEGIN:DAYLIGHT
TZOFFSETFROM:+0100
TZOFFSETTO:+0200
TZNAME:CEST
DTSTART:20230326T010000
END:DAYLIGHT
BEGIN:STANDARD
TZOFFSETFROM:+0200
TZOFFSETTO:+0100
TZNAME:CET
DTSTART:20231029T010000
END:STANDARD
END:VTIMEZONE
BEGIN:VEVENT
DTSTART;TZID=Europe/Madrid:20221108T113000
DTEND;TZID=Europe/Madrid:20221108T133000
DTSTAMP:20260423T064707
CREATED:20221013T103537Z
LAST-MODIFIED:20221013T103537Z
UID:13542-1667907000-1667914200@cermin.org
SUMMARY:Presentación del estudio “Situación del Personal Docente e Investigador en el Sistema Universitario Español” - Fundación ONCE
DESCRIPTION:Fundación ONCE\, Fundación Derecho y Discapacidad y la Universidad Autónoma de Madrid presentarán el estudio “Situación del Personal Docente e Investigador en el Sistema Universitario Español”. \nEl acto\, que se desarrollará en formato híbrido (presencial y virtual)\, tendrá lugar el día 8 de noviembre a las 11.30 horas. Presencialmente se llevará a cabo en el Hub de Por Talento Digital\, en la calle Fray Luis de León\, 11 (28012\, Madrid)\, y\, de forma virtual\, a través de la plataforma digital ZOOM. \nPuede inscribirse en el siguiente boletín de inscripción: https://forms.gle/xD6BLXBTs3mmqaX58\nTras realizar la inscripción se enviará\, a través de correo electrónico\, los datos de conexión o confirmación presencial para acceder al acto.
URL:https://cermin.org/agenda/presentacion-estudio-personal-docente-e-investigador-en-el-sistema-universitario-espanol/
LOCATION:PRESENCIAL Y ONLINE
ATTACH;FMTTYPE=image/png:https://cermin.org/wp-content/uploads/2022/10/20221108-Presentacion-estudio-personal-docente-investigador-sistema-universitario-espanol.png
END:VEVENT
BEGIN:VEVENT
DTSTART;TZID=Europe/Madrid:20221110T120000
DTEND;TZID=Europe/Madrid:20221110T133000
DTSTAMP:20260423T064707
CREATED:20221028T091707Z
LAST-MODIFIED:20221028T091707Z
UID:13647-1668081600-1668087000@cermin.org
SUMMARY:MASTERCLASS "La importancia de la arquitectura en la educación y convivencia" - COCEMFE
DESCRIPTION:La Confederación Española de Personas con Discapacidad Física y Orgánica (COCEMFE)\, en el marco del Plan de Formación 2022\, invita a participar en la Masterclass online “La importancia de la arquitectura en la educación y convivencia”. Impartida por Marta Barbero Calderón\, Arquitecta de La Urdimbre\, Mónica Ruiz-Roso Luna\, Arquitecta de La Urdimbre\, y Abel González García\, Director del Departamento de Criminología de la Universidad a Distancia de Madrid (UDIMA). \nSe celebrará el próximo jueves 10 de noviembre de 2022 de 12.00 a 13.30 horas\, y se retransmitirá en el canal de YouTube de COCEMFE. \nLa influencia de la arquitectura en el alumnado es incuestionable y asociado a la calidad educativa. A lo largo de esta jornada se expondrán los aspectos esenciales que facilitan que los espacios educativos se conviertan en espacios de encuentro y convivencia donde generar conocimientos pero\, también\, hábitos\, rutinas y costumbres con un gran impacto en su vida fuera del centro educativo. \nLa accesibilidad es un derecho para todas las personas y un espacio esencial de participación son los centros educativos. Al hacer estos espacios accesibles construimos sociedades inclusivas porque entienden que los espacios deben ser ocupados por todas las personas. \nAsí pues\, el contenido de este encuentro digital es del máximo interés\, dados los retos presentes y futuros que debe afrontar el movimiento asociativo. \nInscríbete rellenando el siguiente Formulario de inscripción. El día antes del evento\, se enviará a las personas inscritas el enlace de YouTube para poder ver la retransmisión en directo y poder hacer las preguntas oportunas. \nCartel de la clase online.
URL:https://cermin.org/agenda/masterclass-la-importancia-de-la-arquitectura-en-la-educacion-y-convivencia-cocemfe/
LOCATION:Online
ATTACH;FMTTYPE=image/png:https://cermin.org/wp-content/uploads/2022/10/20221110-Importancia-arquitectura-educacion-convivencia-COCEMFE.png
END:VEVENT
END:VCALENDAR