BEGIN:VCALENDAR
VERSION:2.0
PRODID:-//Cermin - ECPv6.15.17.1//NONSGML v1.0//EN
CALSCALE:GREGORIAN
METHOD:PUBLISH
X-WR-CALNAME:Cermin
X-ORIGINAL-URL:https://cermin.org
X-WR-CALDESC:Eventos para Cermin
REFRESH-INTERVAL;VALUE=DURATION:PT1H
X-Robots-Tag:noindex
X-PUBLISHED-TTL:PT1H
BEGIN:VTIMEZONE
TZID:Europe/Madrid
BEGIN:DAYLIGHT
TZOFFSETFROM:+0100
TZOFFSETTO:+0200
TZNAME:CEST
DTSTART:20210328T010000
END:DAYLIGHT
BEGIN:STANDARD
TZOFFSETFROM:+0200
TZOFFSETTO:+0100
TZNAME:CET
DTSTART:20211031T010000
END:STANDARD
BEGIN:DAYLIGHT
TZOFFSETFROM:+0100
TZOFFSETTO:+0200
TZNAME:CEST
DTSTART:20220327T010000
END:DAYLIGHT
BEGIN:STANDARD
TZOFFSETFROM:+0200
TZOFFSETTO:+0100
TZNAME:CET
DTSTART:20221030T010000
END:STANDARD
BEGIN:DAYLIGHT
TZOFFSETFROM:+0100
TZOFFSETTO:+0200
TZNAME:CEST
DTSTART:20230326T010000
END:DAYLIGHT
BEGIN:STANDARD
TZOFFSETFROM:+0200
TZOFFSETTO:+0100
TZNAME:CET
DTSTART:20231029T010000
END:STANDARD
END:VTIMEZONE
BEGIN:VEVENT
DTSTART;TZID=Europe/Madrid:20220929T110000
DTEND;TZID=Europe/Madrid:20220929T123000
DTSTAMP:20260422T041016
CREATED:20220921T081742Z
LAST-MODIFIED:20220921T082757Z
UID:13344-1664449200-1664454600@cermin.org
SUMMARY:Charla coloquio: accesibilidad en la vía pública y en el acceso a eventos\, espectáculos y/o actos organizados desde las instituciones públicas
DESCRIPTION:ONCE Navarra organiza anualmente la Semana y día del Mayor. Con tal motivo se realizan varias actividades dirigidas a su colectivo de más edad. \nRespondiendo a la demanda de dicho colectivo\, este año se ha organizado una charla coloquio donde abordar\, desde el ámbito del derecho\, la “accesibilidad en la vía pública y en el acceso a eventos\, espectáculos y/o actos organizados desde las instituciones públicas”. El objetivo es que se conozca la normativa de referencia en ese campo\, sus derechos como personas con discapacidad al respecto\, y mecanismos de denuncia en caso de incumplimiento. \nLa charla que va ser impartida por Estefanía Clavero Belzunegui\, abogada especialista en discapacidad. \nLa actividad estaría programada para la siguiente fecha y hora: \n\nDía: 29 de septiembre\, jueves.\nHora: De 11.00 a 12.30 horas (1’5 horas de duración).\nLugar: Salón de actos de la Once. C/Aralar 3\, Pamplona.
URL:https://cermin.org/agenda/charla-coloquio-accesibilidad-via-publica-y-acceso-eventos-actos-espectaculos-organizados-por-instituciones-publicas/
LOCATION:SALON DE ACTOS ONCE NAVARRA\, C/ ARALAR Nº 3\, Pamplona/Iruña\, NAVARRA\, 31001
ATTACH;FMTTYPE=image/jpeg:https://cermin.org/wp-content/uploads/2022/09/mayores-calle-pixabay.jpg
END:VEVENT
END:VCALENDAR