BEGIN:VCALENDAR
VERSION:2.0
PRODID:-//Cermin - ECPv6.15.17.1//NONSGML v1.0//EN
CALSCALE:GREGORIAN
METHOD:PUBLISH
X-ORIGINAL-URL:https://cermin.org
X-WR-CALDESC:Eventos para Cermin
REFRESH-INTERVAL;VALUE=DURATION:PT1H
X-Robots-Tag:noindex
X-PUBLISHED-TTL:PT1H
BEGIN:VTIMEZONE
TZID:Europe/Madrid
BEGIN:DAYLIGHT
TZOFFSETFROM:+0100
TZOFFSETTO:+0200
TZNAME:CEST
DTSTART:20220327T010000
END:DAYLIGHT
BEGIN:STANDARD
TZOFFSETFROM:+0200
TZOFFSETTO:+0100
TZNAME:CET
DTSTART:20221030T010000
END:STANDARD
BEGIN:DAYLIGHT
TZOFFSETFROM:+0100
TZOFFSETTO:+0200
TZNAME:CEST
DTSTART:20230326T010000
END:DAYLIGHT
BEGIN:STANDARD
TZOFFSETFROM:+0200
TZOFFSETTO:+0100
TZNAME:CET
DTSTART:20231029T010000
END:STANDARD
BEGIN:DAYLIGHT
TZOFFSETFROM:+0100
TZOFFSETTO:+0200
TZNAME:CEST
DTSTART:20240331T010000
END:DAYLIGHT
BEGIN:STANDARD
TZOFFSETFROM:+0200
TZOFFSETTO:+0100
TZNAME:CET
DTSTART:20241027T010000
END:STANDARD
END:VTIMEZONE
BEGIN:VEVENT
DTSTART;TZID=Europe/Madrid:20230629T160000
DTEND;TZID=Europe/Madrid:20230629T180000
DTSTAMP:20260420T013928
CREATED:20230627T103637Z
LAST-MODIFIED:20230627T104131Z
UID:14937-1688054400-1688061600@cermin.org
SUMMARY:MESA REDONDA: La soledad no deseada: un fenómeno global. Perspectivas y abordajes internacionales - OBSERVATORIO SOLEDADES
DESCRIPTION:La soledad no deseada se ha convertido en un dilema social a nivel mundial que afecta a todos los perfiles poblacionales de la sociedad moderna. Por eso\, el Observatorio Estatal de la Soledad No Deseada – SoledadES organiza una mesa redonda para debatir cómo es abordada la soledad no deseada desde distintas partes del mundo\, y cómo trazar un camino hacia soluciones eficaces e innovadoras. \nLa jornada contará con la participación del Joint Research Center (JRC) de la Unión Europea\, la Organización de Estados Iberoamericanos (OEI)\, el Ministerio de la Soledad de Reino Unido\, El Cirujano General de Estados Unidos y la Oficina de Política sobre la Soledad y el Aislamiento en Japón. \nEl acto tendrá lugar el jueves 29 de junio de 2023\, de 16:00 a 18:00 horas (CEST). Será retransmitido online a través de ZOOM. \nLa inscripción al evento puede realizarse a través del siguiente formulario de inscripción.
URL:https://cermin.org/agenda/mesa-redonda-la-soledad-no-deseada-un-fenomeno-global-perspectivas-y-abordajes-internacionales-observatorio-soledades/
LOCATION:Online
ATTACH;FMTTYPE=image/jpeg:https://cermin.org/wp-content/uploads/2021/05/hombre-mayor-silla-residencia.jpg
END:VEVENT
END:VCALENDAR