BEGIN:VCALENDAR
VERSION:2.0
PRODID:-//Cermin - ECPv6.15.17.1//NONSGML v1.0//EN
CALSCALE:GREGORIAN
METHOD:PUBLISH
X-ORIGINAL-URL:https://cermin.org
X-WR-CALDESC:Eventos para Cermin
REFRESH-INTERVAL;VALUE=DURATION:PT1H
X-Robots-Tag:noindex
X-PUBLISHED-TTL:PT1H
BEGIN:VTIMEZONE
TZID:Europe/Madrid
BEGIN:DAYLIGHT
TZOFFSETFROM:+0100
TZOFFSETTO:+0200
TZNAME:CEST
DTSTART:20210328T010000
END:DAYLIGHT
BEGIN:STANDARD
TZOFFSETFROM:+0200
TZOFFSETTO:+0100
TZNAME:CET
DTSTART:20211031T010000
END:STANDARD
BEGIN:DAYLIGHT
TZOFFSETFROM:+0100
TZOFFSETTO:+0200
TZNAME:CEST
DTSTART:20220327T010000
END:DAYLIGHT
BEGIN:STANDARD
TZOFFSETFROM:+0200
TZOFFSETTO:+0100
TZNAME:CET
DTSTART:20221030T010000
END:STANDARD
BEGIN:DAYLIGHT
TZOFFSETFROM:+0100
TZOFFSETTO:+0200
TZNAME:CEST
DTSTART:20230326T010000
END:DAYLIGHT
BEGIN:STANDARD
TZOFFSETFROM:+0200
TZOFFSETTO:+0100
TZNAME:CET
DTSTART:20231029T010000
END:STANDARD
END:VTIMEZONE
BEGIN:VEVENT
DTSTART;TZID=Europe/Madrid:20221119T093000
DTEND;TZID=Europe/Madrid:20221119T133000
DTSTAMP:20260420T220144
CREATED:20221117T104854Z
LAST-MODIFIED:20221117T104854Z
UID:13817-1668850200-1668864600@cermin.org
SUMMARY:V SEMINARIO 'Entendiendo la realidad del Autismo grado 1 / Asperger' - ASOCIACIÓN LUCIÉRNAGA
DESCRIPTION:Asociación Luciérnaga celebra el 5º Seminario de Asperger y TEA en Navarra. Con el nombre ‘Entendiendo la realidad del Autismo grado 1 / Asperger’\, el seminario abordará el problema desde los distintos planos de trabajo en los que se puede actuar. \nEsta jornada formativa se llevará a cabo el próximo sábado\, 19 de noviembre\, en la sala de conferencias del Civivox de Jus la Rocha\, en Pamplona. En horario de 9:30 a 13:30h y está dirigida a la comunidad educativa y a la sanitaria. \nCon la colaboración de: \n\nMaider Jiménez Echavarri (Terapeuta ocupacional): ‘Más allá de la “hipersensibilidad sensorial”. Entendiendo el concepto de integración sensorial’.\nMiguel Satrustegui Ollaquindia (Psicólogo y maestro en audición y lenguaje y pedagogía terapéutica): ‘INTER TEA. Abordaje psicoeducativo del TEA grado 1’.\nLaura Rincón González (Psicóloga general sanitaria\, experta en trastornos de la comunicación y coach con caballos): ‘La sensibilidad y los caballos’.\n\nEs necesario reservar plaza\, enviando un e-mail a aspergernavarra@gmail.com con el asunto “seminario” y los siguientes datos: Nombre completo\, DNI\, dirección de correo y teléfono. \nLa reserva de plaza cuesta 15 €. \nPrograma del V Seminario de Asperger y TEA: ‘Entendiendo la realidad del Autismo grado 1 / Asperger’.
URL:https://cermin.org/agenda/v-seminario-entendiendo-la-realidad-del-autismo-grado-1-asperger-asociacion-luciernaga/
LOCATION:CIVIVOX JUS LA ROCHA\, P.º de los Enamorados\, 37\, Pamplona/Iruña\, NAVARRA
ATTACH;FMTTYPE=image/jpeg:https://cermin.org/wp-content/uploads/2022/11/CARTEL-5o-SEMINARIO-2022-ASOCIACION-LUCIERNAGA-scaled.jpg
END:VEVENT
END:VCALENDAR