BEGIN:VCALENDAR
VERSION:2.0
PRODID:-//Cermin - ECPv6.15.17.1//NONSGML v1.0//EN
CALSCALE:GREGORIAN
METHOD:PUBLISH
X-ORIGINAL-URL:https://cermin.org
X-WR-CALDESC:Eventos para Cermin
REFRESH-INTERVAL;VALUE=DURATION:PT1H
X-Robots-Tag:noindex
X-PUBLISHED-TTL:PT1H
BEGIN:VTIMEZONE
TZID:Europe/Madrid
BEGIN:DAYLIGHT
TZOFFSETFROM:+0100
TZOFFSETTO:+0200
TZNAME:CEST
DTSTART:20220327T010000
END:DAYLIGHT
BEGIN:STANDARD
TZOFFSETFROM:+0200
TZOFFSETTO:+0100
TZNAME:CET
DTSTART:20221030T010000
END:STANDARD
BEGIN:DAYLIGHT
TZOFFSETFROM:+0100
TZOFFSETTO:+0200
TZNAME:CEST
DTSTART:20230326T010000
END:DAYLIGHT
BEGIN:STANDARD
TZOFFSETFROM:+0200
TZOFFSETTO:+0100
TZNAME:CET
DTSTART:20231029T010000
END:STANDARD
BEGIN:DAYLIGHT
TZOFFSETFROM:+0100
TZOFFSETTO:+0200
TZNAME:CEST
DTSTART:20240331T010000
END:DAYLIGHT
BEGIN:STANDARD
TZOFFSETFROM:+0200
TZOFFSETTO:+0100
TZNAME:CET
DTSTART:20241027T010000
END:STANDARD
END:VTIMEZONE
BEGIN:VEVENT
DTSTART;TZID=Europe/Madrid:20230601T110000
DTEND;TZID=Europe/Madrid:20230601T120000
DTSTAMP:20260421T090239
CREATED:20230531T095437Z
LAST-MODIFIED:20230531T095437Z
UID:14832-1685617200-1685620800@cermin.org
SUMMARY:WEBINAR 'La relación entre alimentación y Alzheimer' - CEAFA
DESCRIPTION:La Confederación Española de Alzheimer (CEAFA) organiza un nuevo seminario virtual el próximo jueves\, 1 de junio\, de 11:00 a 12:00 horas.\n\n \nLa Confederación Española de Alzheimer (CEAFA)\, organiza el próximo jueves\, 1 de junio\, de 11:00 a 12:00 horas\, el webinar ‘Alimentación y Alzheimer: alimentos de toda la vida’\, en el que se tratará la importancia de conocer qué es la disfagia\, por qué se genera y cómo se pueden solventar los problemas nutricionales de los pacientes que la sufren a través de una alimentación tradicional. \nEsta jornada virtual contará con la profesora del departamento de nutrición y ciencia de los alimentos de la facultad de farmacia de la Universidad Complutense\, María del Carmen Lozano Estevan. Las personas interesadas en el seminario pueden inscribirse en este enlace. \nEl webinar\, que se celebrará vía Zoom\, está recogido dentro de las actividades planteadas en el plan operativo 2023 de la Confederación y dentro del proyecto “Entornos Amigables y Solidarios con las Demencias”\, una iniciativa que tiene el objetivo de contribuir a la normalización\, percepción\, consideración y complicidad hacia las personas con Alzheimer y otras demencias. Evitando situaciones de exclusión y rechazo\, consiguiendo entornos amigables y solidarios con las demencias\, fomentando las sociedades no excluyentes\, y contribuyendo así\, al empoderamiento de las personas con Alzheimer y otras demencias.
URL:https://cermin.org/agenda/webinar-la-relacion-entre-alimentacion-y-alzheimer-ceafa/
LOCATION:Online
ATTACH;FMTTYPE=image/jpeg:https://cermin.org/wp-content/uploads/2023/05/20230601-Seminario-alimentacion-y-alzheimer-CEAFA.jpg
END:VEVENT
BEGIN:VEVENT
DTSTART;TZID=Europe/Madrid:20230620T160000
DTEND;TZID=Europe/Madrid:20230620T170000
DTSTAMP:20260421T090239
CREATED:20230615T090558Z
LAST-MODIFIED:20230615T090558Z
UID:14905-1687276800-1687280400@cermin.org
SUMMARY:WEBINARIO: Deporte y discapacidad\, la inclusión siempre gana - GOBIERNO DE NAVARRA
DESCRIPTION:La Dirección General de Presidencia y Gobierno Abierto y la Unidad Responsable de Accesibilidad del Gobierno de Navarra celebran el seminario online ‘Deporte y discapacidad\, la inclusión siempre gana’.\n\n \nDesde la Dirección General de Presidencia y Gobierno Abierto y la Unidad Responsable de Accesibilidad del Gobierno de Navarra invitan al webinario ‘Deporte y discapacidad\, la inclusión siempre gana’. \nEn el webinario intervendrán representantes del Instituto Navarro del Deporte\, de la Federación Navarra de Deportes Adaptados y deportistas con discapacidad\, como Cristina Gay y Miguel Yurrita. \nLa sesión será accesible con subtitulado y lengua de signos en directo\, y será emitida por YouTube. \n\nFecha: 20 de junio de 2023.\nHora: de 4 a 5 de la tarde.\nInscripción en este enlace.\nContacto e información: ura.gobiernodenavarra@navarra.es\nTeléfono: 650 45 26 50 (Fundación Iddeas).\n\nTras la inscripción\, las personas inscritas recibirán un correo el 20 de junio por la mañana con el enlace a la emisión por YouTube.
URL:https://cermin.org/agenda/webinario-deporte-y-discapacidad-la-inclusion-siempre-gana-gobierno-de-navarra/
LOCATION:Online
ATTACH;FMTTYPE=image/jpeg:https://cermin.org/wp-content/uploads/2017/11/deporte_adaptado1.jpg
END:VEVENT
BEGIN:VEVENT
DTSTART;TZID=Europe/Madrid:20230629T100000
DTEND;TZID=Europe/Madrid:20230629T130000
DTSTAMP:20260421T090239
CREATED:20230628T115624Z
LAST-MODIFIED:20230628T115624Z
UID:14948-1688032800-1688043600@cermin.org
SUMMARY:SEMINARIO 'Diversidades Sexuales\, Diversidades Humanas' - CERMI ESTATAL
DESCRIPTION:CERMI Estatal organiza este seminario\, que tendrá lugar el jueves 29 de junio en ZOOM\, de 10 a 13 horas.\n\n \nCERMI Estatal organiza el seminario online ‘Diversidades Sexuales\, Diversidades Humanas’\, que tendrá lugar el jueves 29 de junio en ZOOM\, de 10 a 13 horas. \nAgenda\n10:00 horas. Bienvenida: Luis Alonso\, Gerente y Comisionado Adjunto de CERMIS Autonómicos.\n10:05 a 11:00 horas. Experiencias y Realidades: con los testimonios y experiencias de Joaquín Zahinos (GMadrid Sports)\, Fundación CAPACIS\, AVAPACE.\n11:00 a 12:00 horas. En Primera Persona: con los testimonios de Rocio Tato\, Adrián Sánchez\, Artemisa\, Juan Díaz y Marisa Martínez\, personas con discapacidad LGTBI.\n12:00 a 13:00. Rodando la diversidad sexual: últimos datos del Informe ODA 2022 con Emilio Papamija y entrevista a Telmo Irureta\, Premio Goya el Mejor Actor Novel 2023.\n13:00. Clausura: Carmen Laucirica\, vicepresidenta del CERMI. \nInscripción\nLas personas interesadas en asistir al seminario tendrán que rellenar este formulario de inscripción.
URL:https://cermin.org/agenda/seminario-diversidades-sexuales-diversidades-humanas-cermi-estatal/
LOCATION:Online
ATTACH;FMTTYPE=image/webp:https://cermin.org/wp-content/uploads/2023/06/20230629-seminario-diversidades-sexuales-CERMI.webp
END:VEVENT
END:VCALENDAR